BEGIN:VCALENDAR
VERSION:2.0
PRODID:-//Barn Church - ECPv6.15.20//NONSGML v1.0//EN
CALSCALE:GREGORIAN
METHOD:PUBLISH
X-WR-CALNAME:Barn Church
X-ORIGINAL-URL:https://barnchurch.com
X-WR-CALDESC:Events for Barn Church
REFRESH-INTERVAL;VALUE=DURATION:PT1H
X-Robots-Tag:noindex
X-PUBLISHED-TTL:PT1H
BEGIN:VTIMEZONE
TZID:America/Chicago
BEGIN:DAYLIGHT
TZOFFSETFROM:-0600
TZOFFSETTO:-0500
TZNAME:CDT
DTSTART:20240310T080000
END:DAYLIGHT
BEGIN:STANDARD
TZOFFSETFROM:-0500
TZOFFSETTO:-0600
TZNAME:CST
DTSTART:20241103T070000
END:STANDARD
BEGIN:DAYLIGHT
TZOFFSETFROM:-0600
TZOFFSETTO:-0500
TZNAME:CDT
DTSTART:20250309T080000
END:DAYLIGHT
BEGIN:STANDARD
TZOFFSETFROM:-0500
TZOFFSETTO:-0600
TZNAME:CST
DTSTART:20251102T070000
END:STANDARD
BEGIN:DAYLIGHT
TZOFFSETFROM:-0600
TZOFFSETTO:-0500
TZNAME:CDT
DTSTART:20260308T080000
END:DAYLIGHT
BEGIN:STANDARD
TZOFFSETFROM:-0500
TZOFFSETTO:-0600
TZNAME:CST
DTSTART:20261101T070000
END:STANDARD
END:VTIMEZONE
BEGIN:VEVENT
DTSTART;TZID=America/Chicago:20250713T120000
DTEND;TZID=America/Chicago:20250717T170000
DTSTAMP:20260424T163610
CREATED:20250422T144354Z
LAST-MODIFIED:20250620T170251Z
UID:10001900-1752408000-1752771600@barnchurch.com
SUMMARY:Red River Retreat - Register your teens today!
DESCRIPTION:« All Events\n\n\n	Red River Retreat – Register your teens today!\n			July 13\n	  @\n12:00 pm\n	  –\n	July 17\n	  @\n5:00 pm \nEvery year\, we embark on an inspiring youth retreat to the breathtaking Rocky Mountains of Red River\, NM. This cherished annual event is a time for reflection\, spiritual growth\, and building lasting friendships amidst the majestic natural beauty of towering peaks and serene landscapes. Participants engage in a variety of activities\, from thought-provoking workshops and team-building exercises to outdoor adventures like hiking . The retreat fosters a sense of community\, personal development\, and a deeper connection with nature\, creating unforgettable memories for all who attend. \nRegister your student below! \nAll attendees must fill out and submit a release form available to download here. Please return the form to Mitzi or Scott prior to departure. \n								\n				\n									Download Release Form\n					 \n\n	Categories:\n		Youth Group	 \n\n	Organizer\n\n			\n			Mitzi Branscum			\n	\n\n					\n			scottsmitzi@gmail.com			\n	 \n\n	Venue\n\n			\n		Running Bear River Lodge			\n	\n\n609 River St.\n		\n		Red River\,\n	NM\n\n\n	+ Google Map \n\n					\n						\n	 \n\n	View Venue Website \n\n\n\n	\n	Add to calendar	\n		\n	\n \n\n\n	Google Calendar\n\n\n	iCalendar\n\n\n	Outlook 365\n\n\n	Outlook Live\n\n\n\n\n\n\n				Youth Group	\n\n\n	\n		Reconnect Retreat 2025
URL:https://barnchurch.com/event/red-river-retreat-register-your-teens-today/
LOCATION:Running Bear River Lodge\, 609 River St.\, Red River\, NM
CATEGORIES:Youth Group
ATTACH;FMTTYPE=image/jpeg:https://barnchurch.com/wp-content/uploads/2023/05/BC-Youth-Group-Trip-Hero-Image.jpg
ORGANIZER;CN="Mitzi Branscum":MAILTO:scottsmitzi@gmail.com
END:VEVENT
END:VCALENDAR