BEGIN:VCALENDAR
VERSION:2.0
PRODID:-//Barn Church - ECPv6.15.20//NONSGML v1.0//EN
CALSCALE:GREGORIAN
METHOD:PUBLISH
X-ORIGINAL-URL:https://barnchurch.com
X-WR-CALDESC:Events for Barn Church
REFRESH-INTERVAL;VALUE=DURATION:PT1H
X-Robots-Tag:noindex
X-PUBLISHED-TTL:PT1H
BEGIN:VTIMEZONE
TZID:America/Chicago
BEGIN:DAYLIGHT
TZOFFSETFROM:-0600
TZOFFSETTO:-0500
TZNAME:CDT
DTSTART:20240310T080000
END:DAYLIGHT
BEGIN:STANDARD
TZOFFSETFROM:-0500
TZOFFSETTO:-0600
TZNAME:CST
DTSTART:20241103T070000
END:STANDARD
BEGIN:DAYLIGHT
TZOFFSETFROM:-0600
TZOFFSETTO:-0500
TZNAME:CDT
DTSTART:20250309T080000
END:DAYLIGHT
BEGIN:STANDARD
TZOFFSETFROM:-0500
TZOFFSETTO:-0600
TZNAME:CST
DTSTART:20251102T070000
END:STANDARD
BEGIN:DAYLIGHT
TZOFFSETFROM:-0600
TZOFFSETTO:-0500
TZNAME:CDT
DTSTART:20260308T080000
END:DAYLIGHT
BEGIN:STANDARD
TZOFFSETFROM:-0500
TZOFFSETTO:-0600
TZNAME:CST
DTSTART:20261101T070000
END:STANDARD
END:VTIMEZONE
BEGIN:VEVENT
DTSTART;TZID=America/Chicago:20251010T160000
DTEND;TZID=America/Chicago:20251012T120000
DTSTAMP:20260423T185909
CREATED:20250908T150924Z
LAST-MODIFIED:20250909T132417Z
UID:10001908-1760112000-1760270400@barnchurch.com
SUMMARY:Couples Reconnect—Fused Retreat
DESCRIPTION:Join us for a couples retreat weekend – filled with everything you need to relax and reset – fantastic food\, amazing scenery\, wisdom filled and encouraging speakers and more.
URL:https://barnchurch.com/event/couples-reconnect-fused-retreat/
LOCATION:Matador Ranch\, 072 State Hwy 70\, Matador\, TX\, 79244\, United States
CATEGORIES:Couples,Featured Event
ATTACH;FMTTYPE=image/jpeg:https://barnchurch.com/wp-content/uploads/2025/09/BC-Couples-Fused-Retreat-Hero-Image.jpg
END:VEVENT
END:VCALENDAR