BEGIN:VCALENDAR
VERSION:2.0
PRODID:-//Barn Church - ECPv6.15.20//NONSGML v1.0//EN
CALSCALE:GREGORIAN
METHOD:PUBLISH
X-WR-CALNAME:Barn Church
X-ORIGINAL-URL:https://barnchurch.com
X-WR-CALDESC:Events for Barn Church
REFRESH-INTERVAL;VALUE=DURATION:PT1H
X-Robots-Tag:noindex
X-PUBLISHED-TTL:PT1H
BEGIN:VTIMEZONE
TZID:America/Chicago
BEGIN:DAYLIGHT
TZOFFSETFROM:-0600
TZOFFSETTO:-0500
TZNAME:CDT
DTSTART:20230312T080000
END:DAYLIGHT
BEGIN:STANDARD
TZOFFSETFROM:-0500
TZOFFSETTO:-0600
TZNAME:CST
DTSTART:20231105T070000
END:STANDARD
BEGIN:DAYLIGHT
TZOFFSETFROM:-0600
TZOFFSETTO:-0500
TZNAME:CDT
DTSTART:20240310T080000
END:DAYLIGHT
BEGIN:STANDARD
TZOFFSETFROM:-0500
TZOFFSETTO:-0600
TZNAME:CST
DTSTART:20241103T070000
END:STANDARD
BEGIN:DAYLIGHT
TZOFFSETFROM:-0600
TZOFFSETTO:-0500
TZNAME:CDT
DTSTART:20250309T080000
END:DAYLIGHT
BEGIN:STANDARD
TZOFFSETFROM:-0500
TZOFFSETTO:-0600
TZNAME:CST
DTSTART:20251102T070000
END:STANDARD
BEGIN:DAYLIGHT
TZOFFSETFROM:-0600
TZOFFSETTO:-0500
TZNAME:CDT
DTSTART:20260308T080000
END:DAYLIGHT
BEGIN:STANDARD
TZOFFSETFROM:-0500
TZOFFSETTO:-0600
TZNAME:CST
DTSTART:20261101T070000
END:STANDARD
BEGIN:DAYLIGHT
TZOFFSETFROM:-0600
TZOFFSETTO:-0500
TZNAME:CDT
DTSTART:20270314T080000
END:DAYLIGHT
BEGIN:STANDARD
TZOFFSETFROM:-0500
TZOFFSETTO:-0600
TZNAME:CST
DTSTART:20271107T070000
END:STANDARD
END:VTIMEZONE
BEGIN:VEVENT
DTSTART;TZID=America/Chicago:20260401T180000
DTEND;TZID=America/Chicago:20260401T200000
DTSTAMP:20260423T124353
CREATED:20260302T202315Z
LAST-MODIFIED:20260303T163149Z
UID:10002215-1775066400-1775073600@barnchurch.com
SUMMARY:Passover 2026
DESCRIPTION:Join us for our annual Passover service! \nEach year\, we honor the Jewish feast of Passover\, in which God foreshadowed the coming of the Messiah by sparing the firstborn of the Hebrews when he “smote the land of Egypt.” \nPastor Guy brings a special message about Passover and its fulfillment in Christ. \nFinally\, we break bread together! \nAll are welcome to join us. If you can bring a side dish or a dessert (or both)\, we would appreciate it\, but it’s not required. \nWe hope you will join us. \nIt is a tradition in our church to make a special offering on Passover\, a gift of gratitude to the Lord for rescuing us out of bondage. Like all offerings\, this is an optional gift. You may make your special offering below. 
URL:https://barnchurch.com/event/passover-service-2026/
LOCATION:Barn Church\, 3948 FM1057\, Hereford\, TX\, 79045\, United States
CATEGORIES:Feast,Featured Event,Passover
ATTACH;FMTTYPE=image/webp:https://barnchurch.com/wp-content/uploads/2026/02/2026-BC-Passover-Hero-Image.webp
ORGANIZER;CN="Kassi Bradley":MAILTO:momakas2002@yahoo.com
END:VEVENT
BEGIN:VEVENT
DTSTART;TZID=America/Chicago:20260221T180000
DTEND;TZID=America/Chicago:20260221T200000
DTSTAMP:20260423T124353
CREATED:20260109T020425Z
LAST-MODIFIED:20260219T172051Z
UID:10002194-1771696800-1771704000@barnchurch.com
SUMMARY:Couples Reconnect — Valentine's Day Party
DESCRIPTION:Join us for our annual Couples Reconnect Valentine’s Day Party. We will meet at 6pm in the Fellowship hall. \nWe will be serving a gourmet charcuterie experience with a variety of desserts. The infamous “duck” game returns\, with other games and prizes. \nTickets are $70.00 per couple\, and each couple needs only one ticket. \nSpace is limited so buy your ticket today!
URL:https://barnchurch.com/event/couples-reconnect-valentines-day-party/
LOCATION:Barn Church\, 3948 FM1057\, Hereford\, TX\, 79045\, United States
CATEGORIES:Couples,Featured Event
ATTACH;FMTTYPE=image/jpeg:https://barnchurch.com/wp-content/uploads/2026/01/2026-BC-Couples-Reconnect-Valentines-Party-Hero-Image-1.jpg
ORGANIZER;CN="Kassi Bradley":MAILTO:momakas2002@yahoo.com
END:VEVENT
BEGIN:VEVENT
DTSTART;TZID=America/Chicago:20251221T120000
DTEND;TZID=America/Chicago:20251221T140000
DTSTAMP:20260423T124353
CREATED:20251206T232824Z
LAST-MODIFIED:20251214T040210Z
UID:10002139-1766318400-1766325600@barnchurch.com
SUMMARY:Christmas Lunch with the Church Family
DESCRIPTION:On the Sunday before Christmas\, December 21st\, everyone is invited to a special Christmas Lunch in the fellowship hall after service. We will be having Mexican pile on\, so please RSVP below and let us know if you can bring an item for this meal. \nCome and break bread this Christmas with your church family!
URL:https://barnchurch.com/event/christmas-lunch-with-the-church-family/
LOCATION:Barn Church\, 3948 FM1057\, Hereford\, TX\, 79045\, United States
CATEGORIES:Family Service,Featured Event
ATTACH;FMTTYPE=image/jpeg:https://barnchurch.com/wp-content/uploads/2025/12/2026-BC-Christmas-Lunch-Hero-Image.jpg
ORGANIZER;CN="Kassi Bradley":MAILTO:momakas2002@yahoo.com
END:VEVENT
BEGIN:VEVENT
DTSTART;TZID=America/Chicago:20251026T120000
DTEND;TZID=America/Chicago:20251026T140000
DTSTAMP:20260423T124353
CREATED:20251020T005542Z
LAST-MODIFIED:20251020T010222Z
UID:10002136-1761480000-1761487200@barnchurch.com
SUMMARY:Pastor Appreciation Sunday
DESCRIPTION:« All Events\nPastor Appreciation Sunday\nOctober 26\n@\n12:00 pm\n–\n2:00 pm \nPlease join us for a time to honor and celebrate our Pastors Guy and Carol immediately following the service \nDonations can be given to Kassi\, sent by Venmo\, cash app\, check\, or cash – all gifts and donations will be sent with them for an upcoming trip to their favorite fishing spot! \nCategories:\nFeatured Event \nVenue\n\nBarn Church \n3948 FM1057 \nHereford\,\nTX\n79045\nUnited States\n+ Google Map \n\n(806) 289-5706‬  \nView Venue Website \n\n\n\n\nAdd to calendar \n \n\nGoogle Calendar\niCalendar\nOutlook 365\nOutlook Live\n\n\n\n\nYouth Group \n\nSunday Morning Worship
URL:https://barnchurch.com/event/pastor-appreciation-sunday-2/
LOCATION:Barn Church\, 3948 FM1057\, Hereford\, TX\, 79045\, United States
CATEGORIES:Featured Event
ATTACH;FMTTYPE=image/jpeg:https://barnchurch.com/wp-content/uploads/2025/10/BC-Pastor-Appreciation-Hero-Image.jpg
ORGANIZER;CN="Kassi Bradley":MAILTO:momakas2002@yahoo.com
END:VEVENT
BEGIN:VEVENT
DTSTART;TZID=America/Chicago:20251006T180000
DTEND;TZID=America/Chicago:20251006T200000
DTSTAMP:20260423T124353
CREATED:20250912T191221Z
LAST-MODIFIED:20250913T143529Z
UID:10001936-1759773600-1759780800@barnchurch.com
SUMMARY:Feast of Tabernacles
DESCRIPTION:« All Events \nFeast of Tabernacles\nOctober 6\n@\n6:00 pm\n–\n8:00 pm \nJoin us for the special celebration of one of the “Appointed times of God\,” the Feast of Tabernacles. Please RSVP ASAP for this Thanksgiving-style feast. Please let us know how many will be attending and if you can bring a side dish and/or dessert (totally fine if you can’t; we want you to come regardless).. \n  \nFeast of Tabernacles 2025\nRSVP for the Feast of Tabernacles celebration. \n0\nGoing\nRSVP Here\n\nGoing  \n\nBarn Church \n3948 FM1057Hereford\,\nTX\n79045\nUnited States\n+ Google Map \n\n(806) 289-5706‬  \n\n\n\n\nAdd to calendar \n  \n\nGoogle Calendar\niCalendar\nOutlook 365\nOutlook Live\n\n\n\n\nYouth Group \n\nCouples Reconnect—Fused Retreat
URL:https://barnchurch.com/event/feast-of-tabernacles-2/
LOCATION:Barn Church\, 3948 FM1057\, Hereford\, TX\, 79045\, United States
CATEGORIES:Feast,Featured Event,Tabernacles
ATTACH;FMTTYPE=image/jpeg:https://barnchurch.com/wp-content/uploads/2025/09/BC-Tabernacle-Hero-Image-copy.jpg
ORGANIZER;CN="Kassi Bradley":MAILTO:momakas2002@yahoo.com
END:VEVENT
BEGIN:VEVENT
DTSTART;TZID=America/Chicago:20250622T120000
DTEND;TZID=America/Chicago:20250622T140000
DTSTAMP:20260423T124353
CREATED:20250602T174238Z
LAST-MODIFIED:20250603T142652Z
UID:10001906-1750593600-1750600800@barnchurch.com
SUMMARY:Couples Reconnect Retreat Enchilada Dinner
DESCRIPTION:« All Events\n\n\n	Couples Reconnect Retreat Enchilada Dinner\n			June 22\n	  @\n12:00 pm\n	  –\n2:00 pm \nJoin us on June 22nd after church in the fellowship hall for enchiladas! Each plate is $13\, and all proceeds go to cover the cost of the Couples Reconnect Retreat in Red River. Take-out plates are available. Dinner includes drinks and dessert.  \nAlso\, we have pans of freezer-ready enchiladas available to order. Have a warm-and-serve dinner on hand while supporting a worthwhile cause! A variety of whole cakes and pies will be available for $25 each at the event \nYou can order your tickets or your enchiladas here.  \nWe can’t wait to see y’all there! \n\n		\n		\n		\n		 \n\n	Tickets\n		The numbers below include tickets for this event already in your cart. Clicking “Get Tickets” will allow you to edit any existing attendee information as well as change ticket quantities.\n				Couples Recoonect Retreat Enchilada Dinner\n	Each ticket is for one plate at the dinner after church on June 22nd.\n		$13.00\n	Unlimited\n			\n	Decrease ticket quantity for Couples Recoonect Retreat Enchilada Dinner\n	–\n	\n		Quantity	\n	\n		\n	Increase ticket quantity for Couples Recoonect Retreat Enchilada Dinner\n	+\n		\n				Couples Reconnect Retreat Freezer Ready Enchiladas\n	Each ticket is for one pan of freezer-ready enchiladad to raise funds for the Couples Reconnect Retreat.\n		$30.00\n	Unlimited\n			\n	Decrease ticket quantity for Couples Reconnect Retreat Freezer Ready Enchiladas\n	–\n	\n		Quantity	\n	\n		\n	Increase ticket quantity for Couples Reconnect Retreat Freezer Ready Enchiladas\n	+\n		\n		Quantity:\n	0\n		Total:\n		$0.00\n	Get Tickets\n	\n	\n	\n			\n\n	Categories:\n		Couples\, Featured Event	 \n\n	Organizer\n\n			\n			Kassi Bradley			\n	\n\n					\n			momakas2002@yahoo.com			\n	 \n\n	Venue\n\n			\n		Barn Church			\n	\n\n3948 FM1057\n		\n		Hereford\,\n	TX\n	79045\n	United States\n\n\n	+ Google Map \n\n					\n			(806) 289-5706‬			\n	 \n\n	View Venue Website \n\n\n\n	\n	Add to calendar	\n		\n	\n \n\n\n	Google Calendar\n\n\n	iCalendar\n\n\n	Outlook 365\n\n\n	Outlook Live\n\n\n\n\n\n\n				Youth Group	\n\n\n	\n		Sunday Morning Worship
URL:https://barnchurch.com/event/couples-reconnect-retreat-enchilada-dinner/
LOCATION:Barn Church\, 3948 FM1057\, Hereford\, TX\, 79045\, United States
CATEGORIES:Couples,Featured Event
ATTACH;FMTTYPE=image/jpeg:https://barnchurch.com/wp-content/uploads/2023/05/BC-Couples-Reconnect-Fundraiser-Hero-Image-copy.jpg
ORGANIZER;CN="Kassi Bradley":MAILTO:momakas2002@yahoo.com
END:VEVENT
BEGIN:VEVENT
DTSTART;TZID=America/Chicago:20250601T170000
DTEND;TZID=America/Chicago:20250601T190000
DTSTAMP:20260423T124353
CREATED:20250430T165720Z
LAST-MODIFIED:20250528T224240Z
UID:10001904-1748797200-1748804400@barnchurch.com
SUMMARY:Pentecost 2025
DESCRIPTION:« All Events\n \n\n	Pentecost 2025\n			June 1\n	  @\n5:00 pm\n	  –\n7:00 pm \nJoin us for our annual Pentecost service! \nEach year\, we honor the feast of Shavuot\, which for the Jews commemorates the giving of the Torah to Moses on Mount Sinai\, but for Christians\, it celebrates the indwelling of the Holy Spirit. \nWe begin with worship. Then\, Pastor Guy brings a special message about Shavuot and its fulfillment in the Pentecost. \nFinally\, we break bread together! The church provides burgers and hotdogs. \nPlease RSVP below by May 27th if you plan on attending. That helps us plan on how many folks to feed.  \nWe hope you will join us. \n \n\n	Categories:\n		Feast\, Featured Event	 \n\n	Organizer\n\n			\n			Kassi Bradley			\n	\n\n					\n						\n	 \n\n					\n			momakas2002@yahoo.com			\n	 \n\n			\n		Barn Church			\n	\n\n3948 FM1057\n		\n		Hereford\,\n	TX\n	79045\n	United States\n\n\n	+ Google Map \n\n					\n			(806) 289-5706‬			\n	 \n\n	View Venue Website \n\n\n\n	\n	Add to calendar	\n		\n	\n \n\n\n	Google Calendar\n\n\n	iCalendar\n\n\n	Outlook 365\n\n\n	Outlook Live\n\n\n\n\n\n\n				Attention Campers! Kids' Camp Meeting	\n\n\n	\n		Sunday Morning Worship
URL:https://barnchurch.com/event/pentecost-2025/
LOCATION:Barn Church\, 3948 FM1057\, Hereford\, TX\, 79045\, United States
CATEGORIES:Feast,Featured Event
ATTACH;FMTTYPE=image/jpeg:https://barnchurch.com/wp-content/uploads/2023/05/BC-Pentecost-Hero-Image.jpg
ORGANIZER;CN="Kassi Bradley":MAILTO:momakas2002@yahoo.com
END:VEVENT
BEGIN:VEVENT
DTSTART;TZID=America/Chicago:20240611T180000
DTEND;TZID=America/Chicago:20240611T200000
DTSTAMP:20260423T124353
CREATED:20240428T161425Z
LAST-MODIFIED:20240609T181945Z
UID:10001786-1718128800-1718136000@barnchurch.com
SUMMARY:Pentecost
DESCRIPTION:Join us for our annual Pentecost service! \nEach year\, we honor the feast of Shavuot\, which for the Jews commemorates the giving of the Torah to Moses on Mount Sinai\, but for Christians\, it celebrates the indwelling of the Holy Spirit. \nWe begin with worship. Then\, Pastor Guy brings a special message about Shavuot and its fulfillment in the Pentecost. \nFinally\, we break bread together! The church provides burgers and hotdogs. \nPlease RSVP below if you plan on attending. \nWe hope you will join us.
URL:https://barnchurch.com/event/pentecost-3/
LOCATION:Barn Church\, 3948 FM1057\, Hereford\, TX\, 79045\, United States
CATEGORIES:Feast,Featured Event
ATTACH;FMTTYPE=image/jpeg:https://barnchurch.com/wp-content/uploads/2023/05/BC-Pentecost-Hero-Image.jpg
ORGANIZER;CN="Kassi Bradley":MAILTO:momakas2002@yahoo.com
END:VEVENT
END:VCALENDAR