BEGIN:VCALENDAR
VERSION:2.0
PRODID:-//Barn Church - ECPv6.15.20//NONSGML v1.0//EN
CALSCALE:GREGORIAN
METHOD:PUBLISH
X-ORIGINAL-URL:https://barnchurch.com
X-WR-CALDESC:Events for Barn Church
REFRESH-INTERVAL;VALUE=DURATION:PT1H
X-Robots-Tag:noindex
X-PUBLISHED-TTL:PT1H
BEGIN:VTIMEZONE
TZID:America/Chicago
BEGIN:DAYLIGHT
TZOFFSETFROM:-0600
TZOFFSETTO:-0500
TZNAME:CDT
DTSTART:20240310T080000
END:DAYLIGHT
BEGIN:STANDARD
TZOFFSETFROM:-0500
TZOFFSETTO:-0600
TZNAME:CST
DTSTART:20241103T070000
END:STANDARD
BEGIN:DAYLIGHT
TZOFFSETFROM:-0600
TZOFFSETTO:-0500
TZNAME:CDT
DTSTART:20250309T080000
END:DAYLIGHT
BEGIN:STANDARD
TZOFFSETFROM:-0500
TZOFFSETTO:-0600
TZNAME:CST
DTSTART:20251102T070000
END:STANDARD
BEGIN:DAYLIGHT
TZOFFSETFROM:-0600
TZOFFSETTO:-0500
TZNAME:CDT
DTSTART:20260308T080000
END:DAYLIGHT
BEGIN:STANDARD
TZOFFSETFROM:-0500
TZOFFSETTO:-0600
TZNAME:CST
DTSTART:20261101T070000
END:STANDARD
END:VTIMEZONE
BEGIN:VEVENT
DTSTART;TZID=America/Chicago:20251006T180000
DTEND;TZID=America/Chicago:20251006T200000
DTSTAMP:20260423T172101
CREATED:20250912T191221Z
LAST-MODIFIED:20250913T143529Z
UID:10001936-1759773600-1759780800@barnchurch.com
SUMMARY:Feast of Tabernacles
DESCRIPTION:« All Events \nFeast of Tabernacles\nOctober 6\n@\n6:00 pm\n–\n8:00 pm \nJoin us for the special celebration of one of the “Appointed times of God\,” the Feast of Tabernacles. Please RSVP ASAP for this Thanksgiving-style feast. Please let us know how many will be attending and if you can bring a side dish and/or dessert (totally fine if you can’t; we want you to come regardless).. \n  \nFeast of Tabernacles 2025\nRSVP for the Feast of Tabernacles celebration. \n0\nGoing\nRSVP Here\n\nGoing  \n\nBarn Church \n3948 FM1057Hereford\,\nTX\n79045\nUnited States\n+ Google Map \n\n(806) 289-5706‬  \n\n\n\n\nAdd to calendar \n  \n\nGoogle Calendar\niCalendar\nOutlook 365\nOutlook Live\n\n\n\n\nYouth Group \n\nCouples Reconnect—Fused Retreat
URL:https://barnchurch.com/event/feast-of-tabernacles-2/
LOCATION:Barn Church\, 3948 FM1057\, Hereford\, TX\, 79045\, United States
CATEGORIES:Feast,Featured Event,Tabernacles
ATTACH;FMTTYPE=image/jpeg:https://barnchurch.com/wp-content/uploads/2025/09/BC-Tabernacle-Hero-Image-copy.jpg
ORGANIZER;CN="Kassi Bradley":MAILTO:momakas2002@yahoo.com
END:VEVENT
END:VCALENDAR