BEGIN:VCALENDAR
VERSION:2.0
PRODID:-//Barn Church - ECPv6.15.20//NONSGML v1.0//EN
CALSCALE:GREGORIAN
METHOD:PUBLISH
X-WR-CALNAME:Barn Church
X-ORIGINAL-URL:https://barnchurch.com
X-WR-CALDESC:Events for Barn Church
REFRESH-INTERVAL;VALUE=DURATION:PT1H
X-Robots-Tag:noindex
X-PUBLISHED-TTL:PT1H
BEGIN:VTIMEZONE
TZID:America/Chicago
BEGIN:DAYLIGHT
TZOFFSETFROM:-0600
TZOFFSETTO:-0500
TZNAME:CDT
DTSTART:20260308T080000
END:DAYLIGHT
BEGIN:STANDARD
TZOFFSETFROM:-0500
TZOFFSETTO:-0600
TZNAME:CST
DTSTART:20261101T070000
END:STANDARD
BEGIN:DAYLIGHT
TZOFFSETFROM:-0600
TZOFFSETTO:-0500
TZNAME:CDT
DTSTART:20270314T080000
END:DAYLIGHT
BEGIN:STANDARD
TZOFFSETFROM:-0500
TZOFFSETTO:-0600
TZNAME:CST
DTSTART:20271107T070000
END:STANDARD
BEGIN:DAYLIGHT
TZOFFSETFROM:-0600
TZOFFSETTO:-0500
TZNAME:CDT
DTSTART:20280312T080000
END:DAYLIGHT
BEGIN:STANDARD
TZOFFSETFROM:-0500
TZOFFSETTO:-0600
TZNAME:CST
DTSTART:20281105T070000
END:STANDARD
BEGIN:DAYLIGHT
TZOFFSETFROM:-0600
TZOFFSETTO:-0500
TZNAME:CDT
DTSTART:20290311T080000
END:DAYLIGHT
BEGIN:STANDARD
TZOFFSETFROM:-0500
TZOFFSETTO:-0600
TZNAME:CST
DTSTART:20291104T070000
END:STANDARD
END:VTIMEZONE
BEGIN:VEVENT
DTSTART;TZID=America/Chicago:20271205T103000
DTEND;TZID=America/Chicago:20271205T120000
DTSTAMP:20260424T110813
CREATED:20220331T212513Z
LAST-MODIFIED:20251207T001341Z
UID:10002102-1828002600-1828008000@barnchurch.com
SUMMARY:Sunday Morning Worship
DESCRIPTION:Join us for weekly worship\, every Sunday morning at 10:30am in the sanctuary. \n\n\nWe begin with praise and worship with Roger Morris and Bill Gruhlkey. \n\n\nThen\, Pastor Guy Walker brings the word\, always relevant to our lives and deeply rooted in scripture. \n\n\nWe don’t stand on ceremony\, so come as you are. Y’all are welcome here.
URL:https://barnchurch.com/event/377/2027-12-05/
LOCATION:Barn Church\, 3948 FM1057\, Hereford\, TX\, 79045\, United States
CATEGORIES:Sunday Worship
ATTACH;FMTTYPE=image/jpeg:https://barnchurch.com/wp-content/uploads/2022/03/2026-BC-Worship-Service-Hero-Image.jpg
END:VEVENT
BEGIN:VEVENT
DTSTART;TZID=America/Chicago:20271212T103000
DTEND;TZID=America/Chicago:20271212T120000
DTSTAMP:20260424T110813
CREATED:20220331T212513Z
LAST-MODIFIED:20251207T001341Z
UID:10001400-1828607400-1828612800@barnchurch.com
SUMMARY:Sunday Morning Worship
DESCRIPTION:Join us for weekly worship\, every Sunday morning at 10:30am in the sanctuary. \n\n\nWe begin with praise and worship with Roger Morris and Bill Gruhlkey. \n\n\nThen\, Pastor Guy Walker brings the word\, always relevant to our lives and deeply rooted in scripture. \n\n\nWe don’t stand on ceremony\, so come as you are. Y’all are welcome here.
URL:https://barnchurch.com/event/377/2027-12-12/
LOCATION:Barn Church\, 3948 FM1057\, Hereford\, TX\, 79045\, United States
CATEGORIES:Sunday Worship
ATTACH;FMTTYPE=image/jpeg:https://barnchurch.com/wp-content/uploads/2022/03/2026-BC-Worship-Service-Hero-Image.jpg
END:VEVENT
BEGIN:VEVENT
DTSTART;TZID=America/Chicago:20271219T103000
DTEND;TZID=America/Chicago:20271219T120000
DTSTAMP:20260424T110813
CREATED:20220331T212513Z
LAST-MODIFIED:20251207T001341Z
UID:10001401-1829212200-1829217600@barnchurch.com
SUMMARY:Sunday Morning Worship
DESCRIPTION:Join us for weekly worship\, every Sunday morning at 10:30am in the sanctuary. \n\n\nWe begin with praise and worship with Roger Morris and Bill Gruhlkey. \n\n\nThen\, Pastor Guy Walker brings the word\, always relevant to our lives and deeply rooted in scripture. \n\n\nWe don’t stand on ceremony\, so come as you are. Y’all are welcome here.
URL:https://barnchurch.com/event/377/2027-12-19/
LOCATION:Barn Church\, 3948 FM1057\, Hereford\, TX\, 79045\, United States
CATEGORIES:Sunday Worship
ATTACH;FMTTYPE=image/jpeg:https://barnchurch.com/wp-content/uploads/2022/03/2026-BC-Worship-Service-Hero-Image.jpg
END:VEVENT
BEGIN:VEVENT
DTSTART;TZID=America/Chicago:20271226T103000
DTEND;TZID=America/Chicago:20271226T120000
DTSTAMP:20260424T110813
CREATED:20220331T212513Z
LAST-MODIFIED:20251207T001341Z
UID:10001402-1829817000-1829822400@barnchurch.com
SUMMARY:Sunday Morning Worship
DESCRIPTION:Join us for weekly worship\, every Sunday morning at 10:30am in the sanctuary. \n\n\nWe begin with praise and worship with Roger Morris and Bill Gruhlkey. \n\n\nThen\, Pastor Guy Walker brings the word\, always relevant to our lives and deeply rooted in scripture. \n\n\nWe don’t stand on ceremony\, so come as you are. Y’all are welcome here.
URL:https://barnchurch.com/event/377/2027-12-26/
LOCATION:Barn Church\, 3948 FM1057\, Hereford\, TX\, 79045\, United States
CATEGORIES:Sunday Worship
ATTACH;FMTTYPE=image/jpeg:https://barnchurch.com/wp-content/uploads/2022/03/2026-BC-Worship-Service-Hero-Image.jpg
END:VEVENT
BEGIN:VEVENT
DTSTART;TZID=America/Chicago:20280102T103000
DTEND;TZID=America/Chicago:20280102T120000
DTSTAMP:20260424T110813
CREATED:20220331T212513Z
LAST-MODIFIED:20251207T001341Z
UID:10002103-1830421800-1830427200@barnchurch.com
SUMMARY:Sunday Morning Worship
DESCRIPTION:Join us for weekly worship\, every Sunday morning at 10:30am in the sanctuary. \n\n\nWe begin with praise and worship with Roger Morris and Bill Gruhlkey. \n\n\nThen\, Pastor Guy Walker brings the word\, always relevant to our lives and deeply rooted in scripture. \n\n\nWe don’t stand on ceremony\, so come as you are. Y’all are welcome here.
URL:https://barnchurch.com/event/377/2028-01-02/
LOCATION:Barn Church\, 3948 FM1057\, Hereford\, TX\, 79045\, United States
CATEGORIES:Sunday Worship
ATTACH;FMTTYPE=image/jpeg:https://barnchurch.com/wp-content/uploads/2022/03/2026-BC-Worship-Service-Hero-Image.jpg
END:VEVENT
BEGIN:VEVENT
DTSTART;TZID=America/Chicago:20280109T103000
DTEND;TZID=America/Chicago:20280109T120000
DTSTAMP:20260424T110813
CREATED:20220331T212513Z
LAST-MODIFIED:20251207T001341Z
UID:10001403-1831026600-1831032000@barnchurch.com
SUMMARY:Sunday Morning Worship
DESCRIPTION:Join us for weekly worship\, every Sunday morning at 10:30am in the sanctuary. \n\n\nWe begin with praise and worship with Roger Morris and Bill Gruhlkey. \n\n\nThen\, Pastor Guy Walker brings the word\, always relevant to our lives and deeply rooted in scripture. \n\n\nWe don’t stand on ceremony\, so come as you are. Y’all are welcome here.
URL:https://barnchurch.com/event/377/2028-01-09/
LOCATION:Barn Church\, 3948 FM1057\, Hereford\, TX\, 79045\, United States
CATEGORIES:Sunday Worship
ATTACH;FMTTYPE=image/jpeg:https://barnchurch.com/wp-content/uploads/2022/03/2026-BC-Worship-Service-Hero-Image.jpg
END:VEVENT
BEGIN:VEVENT
DTSTART;TZID=America/Chicago:20280116T103000
DTEND;TZID=America/Chicago:20280116T120000
DTSTAMP:20260424T110813
CREATED:20220331T212513Z
LAST-MODIFIED:20251207T001341Z
UID:10001404-1831631400-1831636800@barnchurch.com
SUMMARY:Sunday Morning Worship
DESCRIPTION:Join us for weekly worship\, every Sunday morning at 10:30am in the sanctuary. \n\n\nWe begin with praise and worship with Roger Morris and Bill Gruhlkey. \n\n\nThen\, Pastor Guy Walker brings the word\, always relevant to our lives and deeply rooted in scripture. \n\n\nWe don’t stand on ceremony\, so come as you are. Y’all are welcome here.
URL:https://barnchurch.com/event/377/2028-01-16/
LOCATION:Barn Church\, 3948 FM1057\, Hereford\, TX\, 79045\, United States
CATEGORIES:Sunday Worship
ATTACH;FMTTYPE=image/jpeg:https://barnchurch.com/wp-content/uploads/2022/03/2026-BC-Worship-Service-Hero-Image.jpg
END:VEVENT
BEGIN:VEVENT
DTSTART;TZID=America/Chicago:20280123T103000
DTEND;TZID=America/Chicago:20280123T120000
DTSTAMP:20260424T110813
CREATED:20220331T212513Z
LAST-MODIFIED:20251207T001341Z
UID:10001405-1832236200-1832241600@barnchurch.com
SUMMARY:Sunday Morning Worship
DESCRIPTION:Join us for weekly worship\, every Sunday morning at 10:30am in the sanctuary. \n\n\nWe begin with praise and worship with Roger Morris and Bill Gruhlkey. \n\n\nThen\, Pastor Guy Walker brings the word\, always relevant to our lives and deeply rooted in scripture. \n\n\nWe don’t stand on ceremony\, so come as you are. Y’all are welcome here.
URL:https://barnchurch.com/event/377/2028-01-23/
LOCATION:Barn Church\, 3948 FM1057\, Hereford\, TX\, 79045\, United States
CATEGORIES:Sunday Worship
ATTACH;FMTTYPE=image/jpeg:https://barnchurch.com/wp-content/uploads/2022/03/2026-BC-Worship-Service-Hero-Image.jpg
END:VEVENT
BEGIN:VEVENT
DTSTART;TZID=America/Chicago:20280130T103000
DTEND;TZID=America/Chicago:20280130T120000
DTSTAMP:20260424T110813
CREATED:20220331T212513Z
LAST-MODIFIED:20251207T001341Z
UID:10001406-1832841000-1832846400@barnchurch.com
SUMMARY:Sunday Morning Worship
DESCRIPTION:Join us for weekly worship\, every Sunday morning at 10:30am in the sanctuary. \n\n\nWe begin with praise and worship with Roger Morris and Bill Gruhlkey. \n\n\nThen\, Pastor Guy Walker brings the word\, always relevant to our lives and deeply rooted in scripture. \n\n\nWe don’t stand on ceremony\, so come as you are. Y’all are welcome here.
URL:https://barnchurch.com/event/377/2028-01-30/
LOCATION:Barn Church\, 3948 FM1057\, Hereford\, TX\, 79045\, United States
CATEGORIES:Sunday Worship
ATTACH;FMTTYPE=image/jpeg:https://barnchurch.com/wp-content/uploads/2022/03/2026-BC-Worship-Service-Hero-Image.jpg
END:VEVENT
BEGIN:VEVENT
DTSTART;TZID=America/Chicago:20280206T103000
DTEND;TZID=America/Chicago:20280206T120000
DTSTAMP:20260424T110813
CREATED:20220331T212513Z
LAST-MODIFIED:20251207T001341Z
UID:10002104-1833445800-1833451200@barnchurch.com
SUMMARY:Sunday Morning Worship
DESCRIPTION:Join us for weekly worship\, every Sunday morning at 10:30am in the sanctuary. \n\n\nWe begin with praise and worship with Roger Morris and Bill Gruhlkey. \n\n\nThen\, Pastor Guy Walker brings the word\, always relevant to our lives and deeply rooted in scripture. \n\n\nWe don’t stand on ceremony\, so come as you are. Y’all are welcome here.
URL:https://barnchurch.com/event/377/2028-02-06/
LOCATION:Barn Church\, 3948 FM1057\, Hereford\, TX\, 79045\, United States
CATEGORIES:Sunday Worship
ATTACH;FMTTYPE=image/jpeg:https://barnchurch.com/wp-content/uploads/2022/03/2026-BC-Worship-Service-Hero-Image.jpg
END:VEVENT
BEGIN:VEVENT
DTSTART;TZID=America/Chicago:20280213T103000
DTEND;TZID=America/Chicago:20280213T120000
DTSTAMP:20260424T110813
CREATED:20220331T212513Z
LAST-MODIFIED:20251207T001341Z
UID:10001407-1834050600-1834056000@barnchurch.com
SUMMARY:Sunday Morning Worship
DESCRIPTION:Join us for weekly worship\, every Sunday morning at 10:30am in the sanctuary. \n\n\nWe begin with praise and worship with Roger Morris and Bill Gruhlkey. \n\n\nThen\, Pastor Guy Walker brings the word\, always relevant to our lives and deeply rooted in scripture. \n\n\nWe don’t stand on ceremony\, so come as you are. Y’all are welcome here.
URL:https://barnchurch.com/event/377/2028-02-13/
LOCATION:Barn Church\, 3948 FM1057\, Hereford\, TX\, 79045\, United States
CATEGORIES:Sunday Worship
ATTACH;FMTTYPE=image/jpeg:https://barnchurch.com/wp-content/uploads/2022/03/2026-BC-Worship-Service-Hero-Image.jpg
END:VEVENT
BEGIN:VEVENT
DTSTART;TZID=America/Chicago:20280220T103000
DTEND;TZID=America/Chicago:20280220T120000
DTSTAMP:20260424T110813
CREATED:20220331T212513Z
LAST-MODIFIED:20251207T001341Z
UID:10001408-1834655400-1834660800@barnchurch.com
SUMMARY:Sunday Morning Worship
DESCRIPTION:Join us for weekly worship\, every Sunday morning at 10:30am in the sanctuary. \n\n\nWe begin with praise and worship with Roger Morris and Bill Gruhlkey. \n\n\nThen\, Pastor Guy Walker brings the word\, always relevant to our lives and deeply rooted in scripture. \n\n\nWe don’t stand on ceremony\, so come as you are. Y’all are welcome here.
URL:https://barnchurch.com/event/377/2028-02-20/
LOCATION:Barn Church\, 3948 FM1057\, Hereford\, TX\, 79045\, United States
CATEGORIES:Sunday Worship
ATTACH;FMTTYPE=image/jpeg:https://barnchurch.com/wp-content/uploads/2022/03/2026-BC-Worship-Service-Hero-Image.jpg
END:VEVENT
BEGIN:VEVENT
DTSTART;TZID=America/Chicago:20280227T103000
DTEND;TZID=America/Chicago:20280227T120000
DTSTAMP:20260424T110813
CREATED:20220331T212513Z
LAST-MODIFIED:20251207T001341Z
UID:10001409-1835260200-1835265600@barnchurch.com
SUMMARY:Sunday Morning Worship
DESCRIPTION:Join us for weekly worship\, every Sunday morning at 10:30am in the sanctuary. \n\n\nWe begin with praise and worship with Roger Morris and Bill Gruhlkey. \n\n\nThen\, Pastor Guy Walker brings the word\, always relevant to our lives and deeply rooted in scripture. \n\n\nWe don’t stand on ceremony\, so come as you are. Y’all are welcome here.
URL:https://barnchurch.com/event/377/2028-02-27/
LOCATION:Barn Church\, 3948 FM1057\, Hereford\, TX\, 79045\, United States
CATEGORIES:Sunday Worship
ATTACH;FMTTYPE=image/jpeg:https://barnchurch.com/wp-content/uploads/2022/03/2026-BC-Worship-Service-Hero-Image.jpg
END:VEVENT
BEGIN:VEVENT
DTSTART;TZID=America/Chicago:20280305T103000
DTEND;TZID=America/Chicago:20280305T120000
DTSTAMP:20260424T110813
CREATED:20220331T212513Z
LAST-MODIFIED:20251207T001341Z
UID:10002105-1835865000-1835870400@barnchurch.com
SUMMARY:Sunday Morning Worship
DESCRIPTION:Join us for weekly worship\, every Sunday morning at 10:30am in the sanctuary. \n\n\nWe begin with praise and worship with Roger Morris and Bill Gruhlkey. \n\n\nThen\, Pastor Guy Walker brings the word\, always relevant to our lives and deeply rooted in scripture. \n\n\nWe don’t stand on ceremony\, so come as you are. Y’all are welcome here.
URL:https://barnchurch.com/event/377/2028-03-05/
LOCATION:Barn Church\, 3948 FM1057\, Hereford\, TX\, 79045\, United States
CATEGORIES:Sunday Worship
ATTACH;FMTTYPE=image/jpeg:https://barnchurch.com/wp-content/uploads/2022/03/2026-BC-Worship-Service-Hero-Image.jpg
END:VEVENT
BEGIN:VEVENT
DTSTART;TZID=America/Chicago:20280312T103000
DTEND;TZID=America/Chicago:20280312T120000
DTSTAMP:20260424T110813
CREATED:20220331T212513Z
LAST-MODIFIED:20251207T001341Z
UID:10001410-1836469800-1836475200@barnchurch.com
SUMMARY:Sunday Morning Worship
DESCRIPTION:Join us for weekly worship\, every Sunday morning at 10:30am in the sanctuary. \n\n\nWe begin with praise and worship with Roger Morris and Bill Gruhlkey. \n\n\nThen\, Pastor Guy Walker brings the word\, always relevant to our lives and deeply rooted in scripture. \n\n\nWe don’t stand on ceremony\, so come as you are. Y’all are welcome here.
URL:https://barnchurch.com/event/377/2028-03-12/
LOCATION:Barn Church\, 3948 FM1057\, Hereford\, TX\, 79045\, United States
CATEGORIES:Sunday Worship
ATTACH;FMTTYPE=image/jpeg:https://barnchurch.com/wp-content/uploads/2022/03/2026-BC-Worship-Service-Hero-Image.jpg
END:VEVENT
BEGIN:VEVENT
DTSTART;TZID=America/Chicago:20280319T103000
DTEND;TZID=America/Chicago:20280319T120000
DTSTAMP:20260424T110813
CREATED:20220331T212513Z
LAST-MODIFIED:20251207T001341Z
UID:10001411-1837074600-1837080000@barnchurch.com
SUMMARY:Sunday Morning Worship
DESCRIPTION:Join us for weekly worship\, every Sunday morning at 10:30am in the sanctuary. \n\n\nWe begin with praise and worship with Roger Morris and Bill Gruhlkey. \n\n\nThen\, Pastor Guy Walker brings the word\, always relevant to our lives and deeply rooted in scripture. \n\n\nWe don’t stand on ceremony\, so come as you are. Y’all are welcome here.
URL:https://barnchurch.com/event/377/2028-03-19/
LOCATION:Barn Church\, 3948 FM1057\, Hereford\, TX\, 79045\, United States
CATEGORIES:Sunday Worship
ATTACH;FMTTYPE=image/jpeg:https://barnchurch.com/wp-content/uploads/2022/03/2026-BC-Worship-Service-Hero-Image.jpg
END:VEVENT
BEGIN:VEVENT
DTSTART;TZID=America/Chicago:20280326T103000
DTEND;TZID=America/Chicago:20280326T120000
DTSTAMP:20260424T110813
CREATED:20220331T212513Z
LAST-MODIFIED:20251207T001341Z
UID:10001412-1837679400-1837684800@barnchurch.com
SUMMARY:Sunday Morning Worship
DESCRIPTION:Join us for weekly worship\, every Sunday morning at 10:30am in the sanctuary. \n\n\nWe begin with praise and worship with Roger Morris and Bill Gruhlkey. \n\n\nThen\, Pastor Guy Walker brings the word\, always relevant to our lives and deeply rooted in scripture. \n\n\nWe don’t stand on ceremony\, so come as you are. Y’all are welcome here.
URL:https://barnchurch.com/event/377/2028-03-26/
LOCATION:Barn Church\, 3948 FM1057\, Hereford\, TX\, 79045\, United States
CATEGORIES:Sunday Worship
ATTACH;FMTTYPE=image/jpeg:https://barnchurch.com/wp-content/uploads/2022/03/2026-BC-Worship-Service-Hero-Image.jpg
END:VEVENT
BEGIN:VEVENT
DTSTART;TZID=America/Chicago:20280402T103000
DTEND;TZID=America/Chicago:20280402T120000
DTSTAMP:20260424T110813
CREATED:20220331T212513Z
LAST-MODIFIED:20251207T001341Z
UID:10002106-1838284200-1838289600@barnchurch.com
SUMMARY:Sunday Morning Worship
DESCRIPTION:Join us for weekly worship\, every Sunday morning at 10:30am in the sanctuary. \n\n\nWe begin with praise and worship with Roger Morris and Bill Gruhlkey. \n\n\nThen\, Pastor Guy Walker brings the word\, always relevant to our lives and deeply rooted in scripture. \n\n\nWe don’t stand on ceremony\, so come as you are. Y’all are welcome here.
URL:https://barnchurch.com/event/377/2028-04-02/
LOCATION:Barn Church\, 3948 FM1057\, Hereford\, TX\, 79045\, United States
CATEGORIES:Sunday Worship
ATTACH;FMTTYPE=image/jpeg:https://barnchurch.com/wp-content/uploads/2022/03/2026-BC-Worship-Service-Hero-Image.jpg
END:VEVENT
BEGIN:VEVENT
DTSTART;TZID=America/Chicago:20280409T103000
DTEND;TZID=America/Chicago:20280409T120000
DTSTAMP:20260424T110813
CREATED:20220331T212513Z
LAST-MODIFIED:20251207T001341Z
UID:10001413-1838889000-1838894400@barnchurch.com
SUMMARY:Sunday Morning Worship
DESCRIPTION:Join us for weekly worship\, every Sunday morning at 10:30am in the sanctuary. \n\n\nWe begin with praise and worship with Roger Morris and Bill Gruhlkey. \n\n\nThen\, Pastor Guy Walker brings the word\, always relevant to our lives and deeply rooted in scripture. \n\n\nWe don’t stand on ceremony\, so come as you are. Y’all are welcome here.
URL:https://barnchurch.com/event/377/2028-04-09/
LOCATION:Barn Church\, 3948 FM1057\, Hereford\, TX\, 79045\, United States
CATEGORIES:Sunday Worship
ATTACH;FMTTYPE=image/jpeg:https://barnchurch.com/wp-content/uploads/2022/03/2026-BC-Worship-Service-Hero-Image.jpg
END:VEVENT
BEGIN:VEVENT
DTSTART;TZID=America/Chicago:20280416T103000
DTEND;TZID=America/Chicago:20280416T120000
DTSTAMP:20260424T110813
CREATED:20220331T212513Z
LAST-MODIFIED:20251207T001341Z
UID:10001414-1839493800-1839499200@barnchurch.com
SUMMARY:Sunday Morning Worship
DESCRIPTION:Join us for weekly worship\, every Sunday morning at 10:30am in the sanctuary. \n\n\nWe begin with praise and worship with Roger Morris and Bill Gruhlkey. \n\n\nThen\, Pastor Guy Walker brings the word\, always relevant to our lives and deeply rooted in scripture. \n\n\nWe don’t stand on ceremony\, so come as you are. Y’all are welcome here.
URL:https://barnchurch.com/event/377/2028-04-16/
LOCATION:Barn Church\, 3948 FM1057\, Hereford\, TX\, 79045\, United States
CATEGORIES:Sunday Worship
ATTACH;FMTTYPE=image/jpeg:https://barnchurch.com/wp-content/uploads/2022/03/2026-BC-Worship-Service-Hero-Image.jpg
END:VEVENT
BEGIN:VEVENT
DTSTART;TZID=America/Chicago:20280423T103000
DTEND;TZID=America/Chicago:20280423T120000
DTSTAMP:20260424T110813
CREATED:20220331T212513Z
LAST-MODIFIED:20251207T001341Z
UID:10001415-1840098600-1840104000@barnchurch.com
SUMMARY:Sunday Morning Worship
DESCRIPTION:Join us for weekly worship\, every Sunday morning at 10:30am in the sanctuary. \n\n\nWe begin with praise and worship with Roger Morris and Bill Gruhlkey. \n\n\nThen\, Pastor Guy Walker brings the word\, always relevant to our lives and deeply rooted in scripture. \n\n\nWe don’t stand on ceremony\, so come as you are. Y’all are welcome here.
URL:https://barnchurch.com/event/377/2028-04-23/
LOCATION:Barn Church\, 3948 FM1057\, Hereford\, TX\, 79045\, United States
CATEGORIES:Sunday Worship
ATTACH;FMTTYPE=image/jpeg:https://barnchurch.com/wp-content/uploads/2022/03/2026-BC-Worship-Service-Hero-Image.jpg
END:VEVENT
BEGIN:VEVENT
DTSTART;TZID=America/Chicago:20280430T103000
DTEND;TZID=America/Chicago:20280430T120000
DTSTAMP:20260424T110813
CREATED:20220331T212513Z
LAST-MODIFIED:20251207T001341Z
UID:10001416-1840703400-1840708800@barnchurch.com
SUMMARY:Sunday Morning Worship
DESCRIPTION:Join us for weekly worship\, every Sunday morning at 10:30am in the sanctuary. \n\n\nWe begin with praise and worship with Roger Morris and Bill Gruhlkey. \n\n\nThen\, Pastor Guy Walker brings the word\, always relevant to our lives and deeply rooted in scripture. \n\n\nWe don’t stand on ceremony\, so come as you are. Y’all are welcome here.
URL:https://barnchurch.com/event/377/2028-04-30/
LOCATION:Barn Church\, 3948 FM1057\, Hereford\, TX\, 79045\, United States
CATEGORIES:Sunday Worship
ATTACH;FMTTYPE=image/jpeg:https://barnchurch.com/wp-content/uploads/2022/03/2026-BC-Worship-Service-Hero-Image.jpg
END:VEVENT
BEGIN:VEVENT
DTSTART;TZID=America/Chicago:20280507T103000
DTEND;TZID=America/Chicago:20280507T120000
DTSTAMP:20260424T110813
CREATED:20220331T212513Z
LAST-MODIFIED:20251207T001341Z
UID:10002107-1841308200-1841313600@barnchurch.com
SUMMARY:Sunday Morning Worship
DESCRIPTION:Join us for weekly worship\, every Sunday morning at 10:30am in the sanctuary. \n\n\nWe begin with praise and worship with Roger Morris and Bill Gruhlkey. \n\n\nThen\, Pastor Guy Walker brings the word\, always relevant to our lives and deeply rooted in scripture. \n\n\nWe don’t stand on ceremony\, so come as you are. Y’all are welcome here.
URL:https://barnchurch.com/event/377/2028-05-07/
LOCATION:Barn Church\, 3948 FM1057\, Hereford\, TX\, 79045\, United States
CATEGORIES:Sunday Worship
ATTACH;FMTTYPE=image/jpeg:https://barnchurch.com/wp-content/uploads/2022/03/2026-BC-Worship-Service-Hero-Image.jpg
END:VEVENT
BEGIN:VEVENT
DTSTART;TZID=America/Chicago:20280514T103000
DTEND;TZID=America/Chicago:20280514T120000
DTSTAMP:20260424T110813
CREATED:20220331T212513Z
LAST-MODIFIED:20251207T001341Z
UID:10001417-1841913000-1841918400@barnchurch.com
SUMMARY:Sunday Morning Worship
DESCRIPTION:Join us for weekly worship\, every Sunday morning at 10:30am in the sanctuary. \n\n\nWe begin with praise and worship with Roger Morris and Bill Gruhlkey. \n\n\nThen\, Pastor Guy Walker brings the word\, always relevant to our lives and deeply rooted in scripture. \n\n\nWe don’t stand on ceremony\, so come as you are. Y’all are welcome here.
URL:https://barnchurch.com/event/377/2028-05-14/
LOCATION:Barn Church\, 3948 FM1057\, Hereford\, TX\, 79045\, United States
CATEGORIES:Sunday Worship
ATTACH;FMTTYPE=image/jpeg:https://barnchurch.com/wp-content/uploads/2022/03/2026-BC-Worship-Service-Hero-Image.jpg
END:VEVENT
BEGIN:VEVENT
DTSTART;TZID=America/Chicago:20280521T103000
DTEND;TZID=America/Chicago:20280521T120000
DTSTAMP:20260424T110813
CREATED:20220331T212513Z
LAST-MODIFIED:20251207T001341Z
UID:10001418-1842517800-1842523200@barnchurch.com
SUMMARY:Sunday Morning Worship
DESCRIPTION:Join us for weekly worship\, every Sunday morning at 10:30am in the sanctuary. \n\n\nWe begin with praise and worship with Roger Morris and Bill Gruhlkey. \n\n\nThen\, Pastor Guy Walker brings the word\, always relevant to our lives and deeply rooted in scripture. \n\n\nWe don’t stand on ceremony\, so come as you are. Y’all are welcome here.
URL:https://barnchurch.com/event/377/2028-05-21/
LOCATION:Barn Church\, 3948 FM1057\, Hereford\, TX\, 79045\, United States
CATEGORIES:Sunday Worship
ATTACH;FMTTYPE=image/jpeg:https://barnchurch.com/wp-content/uploads/2022/03/2026-BC-Worship-Service-Hero-Image.jpg
END:VEVENT
BEGIN:VEVENT
DTSTART;TZID=America/Chicago:20280528T103000
DTEND;TZID=America/Chicago:20280528T120000
DTSTAMP:20260424T110813
CREATED:20220331T212513Z
LAST-MODIFIED:20251207T001341Z
UID:10001419-1843122600-1843128000@barnchurch.com
SUMMARY:Sunday Morning Worship
DESCRIPTION:Join us for weekly worship\, every Sunday morning at 10:30am in the sanctuary. \n\n\nWe begin with praise and worship with Roger Morris and Bill Gruhlkey. \n\n\nThen\, Pastor Guy Walker brings the word\, always relevant to our lives and deeply rooted in scripture. \n\n\nWe don’t stand on ceremony\, so come as you are. Y’all are welcome here.
URL:https://barnchurch.com/event/377/2028-05-28/
LOCATION:Barn Church\, 3948 FM1057\, Hereford\, TX\, 79045\, United States
CATEGORIES:Sunday Worship
ATTACH;FMTTYPE=image/jpeg:https://barnchurch.com/wp-content/uploads/2022/03/2026-BC-Worship-Service-Hero-Image.jpg
END:VEVENT
BEGIN:VEVENT
DTSTART;TZID=America/Chicago:20280604T103000
DTEND;TZID=America/Chicago:20280604T120000
DTSTAMP:20260424T110813
CREATED:20220331T212513Z
LAST-MODIFIED:20251207T001341Z
UID:10002108-1843727400-1843732800@barnchurch.com
SUMMARY:Sunday Morning Worship
DESCRIPTION:Join us for weekly worship\, every Sunday morning at 10:30am in the sanctuary. \n\n\nWe begin with praise and worship with Roger Morris and Bill Gruhlkey. \n\n\nThen\, Pastor Guy Walker brings the word\, always relevant to our lives and deeply rooted in scripture. \n\n\nWe don’t stand on ceremony\, so come as you are. Y’all are welcome here.
URL:https://barnchurch.com/event/377/2028-06-04/
LOCATION:Barn Church\, 3948 FM1057\, Hereford\, TX\, 79045\, United States
CATEGORIES:Sunday Worship
ATTACH;FMTTYPE=image/jpeg:https://barnchurch.com/wp-content/uploads/2022/03/2026-BC-Worship-Service-Hero-Image.jpg
END:VEVENT
BEGIN:VEVENT
DTSTART;TZID=America/Chicago:20280611T103000
DTEND;TZID=America/Chicago:20280611T120000
DTSTAMP:20260424T110813
CREATED:20220331T212513Z
LAST-MODIFIED:20251207T001341Z
UID:10001420-1844332200-1844337600@barnchurch.com
SUMMARY:Sunday Morning Worship
DESCRIPTION:Join us for weekly worship\, every Sunday morning at 10:30am in the sanctuary. \n\n\nWe begin with praise and worship with Roger Morris and Bill Gruhlkey. \n\n\nThen\, Pastor Guy Walker brings the word\, always relevant to our lives and deeply rooted in scripture. \n\n\nWe don’t stand on ceremony\, so come as you are. Y’all are welcome here.
URL:https://barnchurch.com/event/377/2028-06-11/
LOCATION:Barn Church\, 3948 FM1057\, Hereford\, TX\, 79045\, United States
CATEGORIES:Sunday Worship
ATTACH;FMTTYPE=image/jpeg:https://barnchurch.com/wp-content/uploads/2022/03/2026-BC-Worship-Service-Hero-Image.jpg
END:VEVENT
BEGIN:VEVENT
DTSTART;TZID=America/Chicago:20280618T103000
DTEND;TZID=America/Chicago:20280618T120000
DTSTAMP:20260424T110813
CREATED:20220331T212513Z
LAST-MODIFIED:20251207T001341Z
UID:10001421-1844937000-1844942400@barnchurch.com
SUMMARY:Sunday Morning Worship
DESCRIPTION:Join us for weekly worship\, every Sunday morning at 10:30am in the sanctuary. \n\n\nWe begin with praise and worship with Roger Morris and Bill Gruhlkey. \n\n\nThen\, Pastor Guy Walker brings the word\, always relevant to our lives and deeply rooted in scripture. \n\n\nWe don’t stand on ceremony\, so come as you are. Y’all are welcome here.
URL:https://barnchurch.com/event/377/2028-06-18/
LOCATION:Barn Church\, 3948 FM1057\, Hereford\, TX\, 79045\, United States
CATEGORIES:Sunday Worship
ATTACH;FMTTYPE=image/jpeg:https://barnchurch.com/wp-content/uploads/2022/03/2026-BC-Worship-Service-Hero-Image.jpg
END:VEVENT
BEGIN:VEVENT
DTSTART;TZID=America/Chicago:20280625T103000
DTEND;TZID=America/Chicago:20280625T120000
DTSTAMP:20260424T110813
CREATED:20220331T212513Z
LAST-MODIFIED:20251207T001341Z
UID:10001422-1845541800-1845547200@barnchurch.com
SUMMARY:Sunday Morning Worship
DESCRIPTION:Join us for weekly worship\, every Sunday morning at 10:30am in the sanctuary. \n\n\nWe begin with praise and worship with Roger Morris and Bill Gruhlkey. \n\n\nThen\, Pastor Guy Walker brings the word\, always relevant to our lives and deeply rooted in scripture. \n\n\nWe don’t stand on ceremony\, so come as you are. Y’all are welcome here.
URL:https://barnchurch.com/event/377/2028-06-25/
LOCATION:Barn Church\, 3948 FM1057\, Hereford\, TX\, 79045\, United States
CATEGORIES:Sunday Worship
ATTACH;FMTTYPE=image/jpeg:https://barnchurch.com/wp-content/uploads/2022/03/2026-BC-Worship-Service-Hero-Image.jpg
END:VEVENT
END:VCALENDAR