BEGIN:VCALENDAR
VERSION:2.0
PRODID:-//Barn Church - ECPv6.15.20//NONSGML v1.0//EN
CALSCALE:GREGORIAN
METHOD:PUBLISH
X-ORIGINAL-URL:https://barnchurch.com
X-WR-CALDESC:Events for Barn Church
REFRESH-INTERVAL;VALUE=DURATION:PT1H
X-Robots-Tag:noindex
X-PUBLISHED-TTL:PT1H
BEGIN:VTIMEZONE
TZID:America/Chicago
BEGIN:DAYLIGHT
TZOFFSETFROM:-0600
TZOFFSETTO:-0500
TZNAME:CDT
DTSTART:20290311T080000
END:DAYLIGHT
BEGIN:STANDARD
TZOFFSETFROM:-0500
TZOFFSETTO:-0600
TZNAME:CST
DTSTART:20291104T070000
END:STANDARD
BEGIN:DAYLIGHT
TZOFFSETFROM:-0600
TZOFFSETTO:-0500
TZNAME:CDT
DTSTART:20300310T080000
END:DAYLIGHT
BEGIN:STANDARD
TZOFFSETFROM:-0500
TZOFFSETTO:-0600
TZNAME:CST
DTSTART:20301103T070000
END:STANDARD
BEGIN:DAYLIGHT
TZOFFSETFROM:-0600
TZOFFSETTO:-0500
TZNAME:CDT
DTSTART:20310309T080000
END:DAYLIGHT
BEGIN:STANDARD
TZOFFSETFROM:-0500
TZOFFSETTO:-0600
TZNAME:CST
DTSTART:20311102T070000
END:STANDARD
BEGIN:DAYLIGHT
TZOFFSETFROM:-0600
TZOFFSETTO:-0500
TZNAME:CDT
DTSTART:20320314T080000
END:DAYLIGHT
BEGIN:STANDARD
TZOFFSETFROM:-0500
TZOFFSETTO:-0600
TZNAME:CST
DTSTART:20321107T070000
END:STANDARD
END:VTIMEZONE
BEGIN:VEVENT
DTSTART;TZID=America/Chicago:20301201T103000
DTEND;TZID=America/Chicago:20301201T120000
DTSTAMP:20260425T070050
CREATED:20220331T212513Z
LAST-MODIFIED:20251207T001341Z
UID:10002148-1922351400-1922356800@barnchurch.com
SUMMARY:Sunday Morning Worship
DESCRIPTION:Join us for weekly worship\, every Sunday morning at 10:30am in the sanctuary. \n\n\nWe begin with praise and worship with Roger Morris and Bill Gruhlkey. \n\n\nThen\, Pastor Guy Walker brings the word\, always relevant to our lives and deeply rooted in scripture. \n\n\nWe don’t stand on ceremony\, so come as you are. Y’all are welcome here.
URL:https://barnchurch.com/event/377/2030-12-01/
LOCATION:Barn Church\, 3948 FM1057\, Hereford\, TX\, 79045\, United States
CATEGORIES:Sunday Worship
ATTACH;FMTTYPE=image/jpeg:https://barnchurch.com/wp-content/uploads/2022/03/2026-BC-Worship-Service-Hero-Image.jpg
END:VEVENT
BEGIN:VEVENT
DTSTART;TZID=America/Chicago:20301208T103000
DTEND;TZID=America/Chicago:20301208T120000
DTSTAMP:20260425T070050
CREATED:20220331T212513Z
LAST-MODIFIED:20251207T001341Z
UID:10002195-1922956200-1922961600@barnchurch.com
SUMMARY:Sunday Morning Worship
DESCRIPTION:Join us for weekly worship\, every Sunday morning at 10:30am in the sanctuary. \n\n\nWe begin with praise and worship with Roger Morris and Bill Gruhlkey. \n\n\nThen\, Pastor Guy Walker brings the word\, always relevant to our lives and deeply rooted in scripture. \n\n\nWe don’t stand on ceremony\, so come as you are. Y’all are welcome here.
URL:https://barnchurch.com/event/377/2030-12-08/
LOCATION:Barn Church\, 3948 FM1057\, Hereford\, TX\, 79045\, United States
CATEGORIES:Sunday Worship
ATTACH;FMTTYPE=image/jpeg:https://barnchurch.com/wp-content/uploads/2022/03/2026-BC-Worship-Service-Hero-Image.jpg
END:VEVENT
BEGIN:VEVENT
DTSTART;TZID=America/Chicago:20301215T103000
DTEND;TZID=America/Chicago:20301215T120000
DTSTAMP:20260425T070050
CREATED:20220331T212513Z
LAST-MODIFIED:20251207T001341Z
UID:10002196-1923561000-1923566400@barnchurch.com
SUMMARY:Sunday Morning Worship
DESCRIPTION:Join us for weekly worship\, every Sunday morning at 10:30am in the sanctuary. \n\n\nWe begin with praise and worship with Roger Morris and Bill Gruhlkey. \n\n\nThen\, Pastor Guy Walker brings the word\, always relevant to our lives and deeply rooted in scripture. \n\n\nWe don’t stand on ceremony\, so come as you are. Y’all are welcome here.
URL:https://barnchurch.com/event/377/2030-12-15/
LOCATION:Barn Church\, 3948 FM1057\, Hereford\, TX\, 79045\, United States
CATEGORIES:Sunday Worship
ATTACH;FMTTYPE=image/jpeg:https://barnchurch.com/wp-content/uploads/2022/03/2026-BC-Worship-Service-Hero-Image.jpg
END:VEVENT
BEGIN:VEVENT
DTSTART;TZID=America/Chicago:20301222T103000
DTEND;TZID=America/Chicago:20301222T120000
DTSTAMP:20260425T070050
CREATED:20220331T212513Z
LAST-MODIFIED:20251207T001341Z
UID:10002197-1924165800-1924171200@barnchurch.com
SUMMARY:Sunday Morning Worship
DESCRIPTION:Join us for weekly worship\, every Sunday morning at 10:30am in the sanctuary. \n\n\nWe begin with praise and worship with Roger Morris and Bill Gruhlkey. \n\n\nThen\, Pastor Guy Walker brings the word\, always relevant to our lives and deeply rooted in scripture. \n\n\nWe don’t stand on ceremony\, so come as you are. Y’all are welcome here.
URL:https://barnchurch.com/event/377/2030-12-22/
LOCATION:Barn Church\, 3948 FM1057\, Hereford\, TX\, 79045\, United States
CATEGORIES:Sunday Worship
ATTACH;FMTTYPE=image/jpeg:https://barnchurch.com/wp-content/uploads/2022/03/2026-BC-Worship-Service-Hero-Image.jpg
END:VEVENT
BEGIN:VEVENT
DTSTART;TZID=America/Chicago:20301229T103000
DTEND;TZID=America/Chicago:20301229T120000
DTSTAMP:20260425T070050
CREATED:20220331T212513Z
LAST-MODIFIED:20251207T001341Z
UID:10002198-1924770600-1924776000@barnchurch.com
SUMMARY:Sunday Morning Worship
DESCRIPTION:Join us for weekly worship\, every Sunday morning at 10:30am in the sanctuary. \n\n\nWe begin with praise and worship with Roger Morris and Bill Gruhlkey. \n\n\nThen\, Pastor Guy Walker brings the word\, always relevant to our lives and deeply rooted in scripture. \n\n\nWe don’t stand on ceremony\, so come as you are. Y’all are welcome here.
URL:https://barnchurch.com/event/377/2030-12-29/
LOCATION:Barn Church\, 3948 FM1057\, Hereford\, TX\, 79045\, United States
CATEGORIES:Sunday Worship
ATTACH;FMTTYPE=image/jpeg:https://barnchurch.com/wp-content/uploads/2022/03/2026-BC-Worship-Service-Hero-Image.jpg
END:VEVENT
BEGIN:VEVENT
DTSTART;TZID=America/Chicago:20310105T103000
DTEND;TZID=America/Chicago:20310105T120000
DTSTAMP:20260425T070050
CREATED:20220331T212513Z
LAST-MODIFIED:20251207T001341Z
UID:10002199-1925375400-1925380800@barnchurch.com
SUMMARY:Sunday Morning Worship
DESCRIPTION:Join us for weekly worship\, every Sunday morning at 10:30am in the sanctuary. \n\n\nWe begin with praise and worship with Roger Morris and Bill Gruhlkey. \n\n\nThen\, Pastor Guy Walker brings the word\, always relevant to our lives and deeply rooted in scripture. \n\n\nWe don’t stand on ceremony\, so come as you are. Y’all are welcome here.
URL:https://barnchurch.com/event/377/2031-01-05/
LOCATION:Barn Church\, 3948 FM1057\, Hereford\, TX\, 79045\, United States
CATEGORIES:Sunday Worship
ATTACH;FMTTYPE=image/jpeg:https://barnchurch.com/wp-content/uploads/2022/03/2026-BC-Worship-Service-Hero-Image.jpg
END:VEVENT
BEGIN:VEVENT
DTSTART;TZID=America/Chicago:20310112T103000
DTEND;TZID=America/Chicago:20310112T120000
DTSTAMP:20260425T070050
CREATED:20220331T212513Z
LAST-MODIFIED:20251207T001341Z
UID:10002200-1925980200-1925985600@barnchurch.com
SUMMARY:Sunday Morning Worship
DESCRIPTION:Join us for weekly worship\, every Sunday morning at 10:30am in the sanctuary. \n\n\nWe begin with praise and worship with Roger Morris and Bill Gruhlkey. \n\n\nThen\, Pastor Guy Walker brings the word\, always relevant to our lives and deeply rooted in scripture. \n\n\nWe don’t stand on ceremony\, so come as you are. Y’all are welcome here.
URL:https://barnchurch.com/event/377/2031-01-12/
LOCATION:Barn Church\, 3948 FM1057\, Hereford\, TX\, 79045\, United States
CATEGORIES:Sunday Worship
ATTACH;FMTTYPE=image/jpeg:https://barnchurch.com/wp-content/uploads/2022/03/2026-BC-Worship-Service-Hero-Image.jpg
END:VEVENT
BEGIN:VEVENT
DTSTART;TZID=America/Chicago:20310119T103000
DTEND;TZID=America/Chicago:20310119T120000
DTSTAMP:20260425T070050
CREATED:20220331T212513Z
LAST-MODIFIED:20251207T001341Z
UID:10002201-1926585000-1926590400@barnchurch.com
SUMMARY:Sunday Morning Worship
DESCRIPTION:Join us for weekly worship\, every Sunday morning at 10:30am in the sanctuary. \n\n\nWe begin with praise and worship with Roger Morris and Bill Gruhlkey. \n\n\nThen\, Pastor Guy Walker brings the word\, always relevant to our lives and deeply rooted in scripture. \n\n\nWe don’t stand on ceremony\, so come as you are. Y’all are welcome here.
URL:https://barnchurch.com/event/377/2031-01-19/
LOCATION:Barn Church\, 3948 FM1057\, Hereford\, TX\, 79045\, United States
CATEGORIES:Sunday Worship
ATTACH;FMTTYPE=image/jpeg:https://barnchurch.com/wp-content/uploads/2022/03/2026-BC-Worship-Service-Hero-Image.jpg
END:VEVENT
END:VCALENDAR