BEGIN:VCALENDAR
VERSION:2.0
PRODID:-//Barn Church - ECPv6.15.20//NONSGML v1.0//EN
CALSCALE:GREGORIAN
METHOD:PUBLISH
X-WR-CALNAME:Barn Church
X-ORIGINAL-URL:https://barnchurch.com
X-WR-CALDESC:Events for Barn Church
REFRESH-INTERVAL;VALUE=DURATION:PT1H
X-Robots-Tag:noindex
X-PUBLISHED-TTL:PT1H
BEGIN:VTIMEZONE
TZID:America/Chicago
BEGIN:DAYLIGHT
TZOFFSETFROM:-0600
TZOFFSETTO:-0500
TZNAME:CDT
DTSTART:20280312T080000
END:DAYLIGHT
BEGIN:STANDARD
TZOFFSETFROM:-0500
TZOFFSETTO:-0600
TZNAME:CST
DTSTART:20281105T070000
END:STANDARD
BEGIN:DAYLIGHT
TZOFFSETFROM:-0600
TZOFFSETTO:-0500
TZNAME:CDT
DTSTART:20290311T080000
END:DAYLIGHT
BEGIN:STANDARD
TZOFFSETFROM:-0500
TZOFFSETTO:-0600
TZNAME:CST
DTSTART:20291104T070000
END:STANDARD
BEGIN:DAYLIGHT
TZOFFSETFROM:-0600
TZOFFSETTO:-0500
TZNAME:CDT
DTSTART:20300310T080000
END:DAYLIGHT
BEGIN:STANDARD
TZOFFSETFROM:-0500
TZOFFSETTO:-0600
TZNAME:CST
DTSTART:20301103T070000
END:STANDARD
BEGIN:DAYLIGHT
TZOFFSETFROM:-0600
TZOFFSETTO:-0500
TZNAME:CDT
DTSTART:20310309T080000
END:DAYLIGHT
BEGIN:STANDARD
TZOFFSETFROM:-0500
TZOFFSETTO:-0600
TZNAME:CST
DTSTART:20311102T070000
END:STANDARD
END:VTIMEZONE
BEGIN:VEVENT
DTSTART;TZID=America/Chicago:20291007T103000
DTEND;TZID=America/Chicago:20291007T120000
DTSTAMP:20260424T225435
CREATED:20220331T212513Z
LAST-MODIFIED:20251207T001341Z
UID:10002124-1886063400-1886068800@barnchurch.com
SUMMARY:Sunday Morning Worship
DESCRIPTION:Join us for weekly worship\, every Sunday morning at 10:30am in the sanctuary. \n\n\nWe begin with praise and worship with Roger Morris and Bill Gruhlkey. \n\n\nThen\, Pastor Guy Walker brings the word\, always relevant to our lives and deeply rooted in scripture. \n\n\nWe don’t stand on ceremony\, so come as you are. Y’all are welcome here.
URL:https://barnchurch.com/event/377/2029-10-07/
LOCATION:Barn Church\, 3948 FM1057\, Hereford\, TX\, 79045\, United States
CATEGORIES:Sunday Worship
ATTACH;FMTTYPE=image/jpeg:https://barnchurch.com/wp-content/uploads/2022/03/2026-BC-Worship-Service-Hero-Image.jpg
END:VEVENT
BEGIN:VEVENT
DTSTART;TZID=America/Chicago:20291014T103000
DTEND;TZID=America/Chicago:20291014T120000
DTSTAMP:20260424T225435
CREATED:20220331T212513Z
LAST-MODIFIED:20251207T001341Z
UID:10001814-1886668200-1886673600@barnchurch.com
SUMMARY:Sunday Morning Worship
DESCRIPTION:Join us for weekly worship\, every Sunday morning at 10:30am in the sanctuary. \n\n\nWe begin with praise and worship with Roger Morris and Bill Gruhlkey. \n\n\nThen\, Pastor Guy Walker brings the word\, always relevant to our lives and deeply rooted in scripture. \n\n\nWe don’t stand on ceremony\, so come as you are. Y’all are welcome here.
URL:https://barnchurch.com/event/377/2029-10-14/
LOCATION:Barn Church\, 3948 FM1057\, Hereford\, TX\, 79045\, United States
CATEGORIES:Sunday Worship
ATTACH;FMTTYPE=image/jpeg:https://barnchurch.com/wp-content/uploads/2022/03/2026-BC-Worship-Service-Hero-Image.jpg
END:VEVENT
BEGIN:VEVENT
DTSTART;TZID=America/Chicago:20291021T103000
DTEND;TZID=America/Chicago:20291021T120000
DTSTAMP:20260424T225435
CREATED:20220331T212513Z
LAST-MODIFIED:20251207T001341Z
UID:10001815-1887273000-1887278400@barnchurch.com
SUMMARY:Sunday Morning Worship
DESCRIPTION:Join us for weekly worship\, every Sunday morning at 10:30am in the sanctuary. \n\n\nWe begin with praise and worship with Roger Morris and Bill Gruhlkey. \n\n\nThen\, Pastor Guy Walker brings the word\, always relevant to our lives and deeply rooted in scripture. \n\n\nWe don’t stand on ceremony\, so come as you are. Y’all are welcome here.
URL:https://barnchurch.com/event/377/2029-10-21/
LOCATION:Barn Church\, 3948 FM1057\, Hereford\, TX\, 79045\, United States
CATEGORIES:Sunday Worship
ATTACH;FMTTYPE=image/jpeg:https://barnchurch.com/wp-content/uploads/2022/03/2026-BC-Worship-Service-Hero-Image.jpg
END:VEVENT
BEGIN:VEVENT
DTSTART;TZID=America/Chicago:20291028T103000
DTEND;TZID=America/Chicago:20291028T120000
DTSTAMP:20260424T225435
CREATED:20220331T212513Z
LAST-MODIFIED:20251207T001341Z
UID:10001816-1887877800-1887883200@barnchurch.com
SUMMARY:Sunday Morning Worship
DESCRIPTION:Join us for weekly worship\, every Sunday morning at 10:30am in the sanctuary. \n\n\nWe begin with praise and worship with Roger Morris and Bill Gruhlkey. \n\n\nThen\, Pastor Guy Walker brings the word\, always relevant to our lives and deeply rooted in scripture. \n\n\nWe don’t stand on ceremony\, so come as you are. Y’all are welcome here.
URL:https://barnchurch.com/event/377/2029-10-28/
LOCATION:Barn Church\, 3948 FM1057\, Hereford\, TX\, 79045\, United States
CATEGORIES:Sunday Worship
ATTACH;FMTTYPE=image/jpeg:https://barnchurch.com/wp-content/uploads/2022/03/2026-BC-Worship-Service-Hero-Image.jpg
END:VEVENT
BEGIN:VEVENT
DTSTART;TZID=America/Chicago:20291104T103000
DTEND;TZID=America/Chicago:20291104T120000
DTSTAMP:20260424T225435
CREATED:20220331T212513Z
LAST-MODIFIED:20251207T001341Z
UID:10002125-1888482600-1888488000@barnchurch.com
SUMMARY:Sunday Morning Worship
DESCRIPTION:Join us for weekly worship\, every Sunday morning at 10:30am in the sanctuary. \n\n\nWe begin with praise and worship with Roger Morris and Bill Gruhlkey. \n\n\nThen\, Pastor Guy Walker brings the word\, always relevant to our lives and deeply rooted in scripture. \n\n\nWe don’t stand on ceremony\, so come as you are. Y’all are welcome here.
URL:https://barnchurch.com/event/377/2029-11-04/
LOCATION:Barn Church\, 3948 FM1057\, Hereford\, TX\, 79045\, United States
CATEGORIES:Sunday Worship
ATTACH;FMTTYPE=image/jpeg:https://barnchurch.com/wp-content/uploads/2022/03/2026-BC-Worship-Service-Hero-Image.jpg
END:VEVENT
BEGIN:VEVENT
DTSTART;TZID=America/Chicago:20291111T103000
DTEND;TZID=America/Chicago:20291111T120000
DTSTAMP:20260424T225435
CREATED:20220331T212513Z
LAST-MODIFIED:20251207T001341Z
UID:10001817-1889087400-1889092800@barnchurch.com
SUMMARY:Sunday Morning Worship
DESCRIPTION:Join us for weekly worship\, every Sunday morning at 10:30am in the sanctuary. \n\n\nWe begin with praise and worship with Roger Morris and Bill Gruhlkey. \n\n\nThen\, Pastor Guy Walker brings the word\, always relevant to our lives and deeply rooted in scripture. \n\n\nWe don’t stand on ceremony\, so come as you are. Y’all are welcome here.
URL:https://barnchurch.com/event/377/2029-11-11/
LOCATION:Barn Church\, 3948 FM1057\, Hereford\, TX\, 79045\, United States
CATEGORIES:Sunday Worship
ATTACH;FMTTYPE=image/jpeg:https://barnchurch.com/wp-content/uploads/2022/03/2026-BC-Worship-Service-Hero-Image.jpg
END:VEVENT
BEGIN:VEVENT
DTSTART;TZID=America/Chicago:20291118T103000
DTEND;TZID=America/Chicago:20291118T120000
DTSTAMP:20260424T225435
CREATED:20220331T212513Z
LAST-MODIFIED:20251207T001341Z
UID:10001818-1889692200-1889697600@barnchurch.com
SUMMARY:Sunday Morning Worship
DESCRIPTION:Join us for weekly worship\, every Sunday morning at 10:30am in the sanctuary. \n\n\nWe begin with praise and worship with Roger Morris and Bill Gruhlkey. \n\n\nThen\, Pastor Guy Walker brings the word\, always relevant to our lives and deeply rooted in scripture. \n\n\nWe don’t stand on ceremony\, so come as you are. Y’all are welcome here.
URL:https://barnchurch.com/event/377/2029-11-18/
LOCATION:Barn Church\, 3948 FM1057\, Hereford\, TX\, 79045\, United States
CATEGORIES:Sunday Worship
ATTACH;FMTTYPE=image/jpeg:https://barnchurch.com/wp-content/uploads/2022/03/2026-BC-Worship-Service-Hero-Image.jpg
END:VEVENT
BEGIN:VEVENT
DTSTART;TZID=America/Chicago:20291125T103000
DTEND;TZID=America/Chicago:20291125T120000
DTSTAMP:20260424T225435
CREATED:20220331T212513Z
LAST-MODIFIED:20251207T001341Z
UID:10001819-1890297000-1890302400@barnchurch.com
SUMMARY:Sunday Morning Worship
DESCRIPTION:Join us for weekly worship\, every Sunday morning at 10:30am in the sanctuary. \n\n\nWe begin with praise and worship with Roger Morris and Bill Gruhlkey. \n\n\nThen\, Pastor Guy Walker brings the word\, always relevant to our lives and deeply rooted in scripture. \n\n\nWe don’t stand on ceremony\, so come as you are. Y’all are welcome here.
URL:https://barnchurch.com/event/377/2029-11-25/
LOCATION:Barn Church\, 3948 FM1057\, Hereford\, TX\, 79045\, United States
CATEGORIES:Sunday Worship
ATTACH;FMTTYPE=image/jpeg:https://barnchurch.com/wp-content/uploads/2022/03/2026-BC-Worship-Service-Hero-Image.jpg
END:VEVENT
BEGIN:VEVENT
DTSTART;TZID=America/Chicago:20291202T103000
DTEND;TZID=America/Chicago:20291202T120000
DTSTAMP:20260424T225435
CREATED:20220331T212513Z
LAST-MODIFIED:20251207T001341Z
UID:10002126-1890901800-1890907200@barnchurch.com
SUMMARY:Sunday Morning Worship
DESCRIPTION:Join us for weekly worship\, every Sunday morning at 10:30am in the sanctuary. \n\n\nWe begin with praise and worship with Roger Morris and Bill Gruhlkey. \n\n\nThen\, Pastor Guy Walker brings the word\, always relevant to our lives and deeply rooted in scripture. \n\n\nWe don’t stand on ceremony\, so come as you are. Y’all are welcome here.
URL:https://barnchurch.com/event/377/2029-12-02/
LOCATION:Barn Church\, 3948 FM1057\, Hereford\, TX\, 79045\, United States
CATEGORIES:Sunday Worship
ATTACH;FMTTYPE=image/jpeg:https://barnchurch.com/wp-content/uploads/2022/03/2026-BC-Worship-Service-Hero-Image.jpg
END:VEVENT
BEGIN:VEVENT
DTSTART;TZID=America/Chicago:20291209T103000
DTEND;TZID=America/Chicago:20291209T120000
DTSTAMP:20260424T225435
CREATED:20220331T212513Z
LAST-MODIFIED:20251207T001341Z
UID:10001820-1891506600-1891512000@barnchurch.com
SUMMARY:Sunday Morning Worship
DESCRIPTION:Join us for weekly worship\, every Sunday morning at 10:30am in the sanctuary. \n\n\nWe begin with praise and worship with Roger Morris and Bill Gruhlkey. \n\n\nThen\, Pastor Guy Walker brings the word\, always relevant to our lives and deeply rooted in scripture. \n\n\nWe don’t stand on ceremony\, so come as you are. Y’all are welcome here.
URL:https://barnchurch.com/event/377/2029-12-09/
LOCATION:Barn Church\, 3948 FM1057\, Hereford\, TX\, 79045\, United States
CATEGORIES:Sunday Worship
ATTACH;FMTTYPE=image/jpeg:https://barnchurch.com/wp-content/uploads/2022/03/2026-BC-Worship-Service-Hero-Image.jpg
END:VEVENT
BEGIN:VEVENT
DTSTART;TZID=America/Chicago:20291216T103000
DTEND;TZID=America/Chicago:20291216T120000
DTSTAMP:20260424T225435
CREATED:20220331T212513Z
LAST-MODIFIED:20251207T001341Z
UID:10001887-1892111400-1892116800@barnchurch.com
SUMMARY:Sunday Morning Worship
DESCRIPTION:Join us for weekly worship\, every Sunday morning at 10:30am in the sanctuary. \n\n\nWe begin with praise and worship with Roger Morris and Bill Gruhlkey. \n\n\nThen\, Pastor Guy Walker brings the word\, always relevant to our lives and deeply rooted in scripture. \n\n\nWe don’t stand on ceremony\, so come as you are. Y’all are welcome here.
URL:https://barnchurch.com/event/377/2029-12-16/
LOCATION:Barn Church\, 3948 FM1057\, Hereford\, TX\, 79045\, United States
CATEGORIES:Sunday Worship
ATTACH;FMTTYPE=image/jpeg:https://barnchurch.com/wp-content/uploads/2022/03/2026-BC-Worship-Service-Hero-Image.jpg
END:VEVENT
BEGIN:VEVENT
DTSTART;TZID=America/Chicago:20291223T103000
DTEND;TZID=America/Chicago:20291223T120000
DTSTAMP:20260424T225435
CREATED:20220331T212513Z
LAST-MODIFIED:20251207T001341Z
UID:10001888-1892716200-1892721600@barnchurch.com
SUMMARY:Sunday Morning Worship
DESCRIPTION:Join us for weekly worship\, every Sunday morning at 10:30am in the sanctuary. \n\n\nWe begin with praise and worship with Roger Morris and Bill Gruhlkey. \n\n\nThen\, Pastor Guy Walker brings the word\, always relevant to our lives and deeply rooted in scripture. \n\n\nWe don’t stand on ceremony\, so come as you are. Y’all are welcome here.
URL:https://barnchurch.com/event/377/2029-12-23/
LOCATION:Barn Church\, 3948 FM1057\, Hereford\, TX\, 79045\, United States
CATEGORIES:Sunday Worship
ATTACH;FMTTYPE=image/jpeg:https://barnchurch.com/wp-content/uploads/2022/03/2026-BC-Worship-Service-Hero-Image.jpg
END:VEVENT
BEGIN:VEVENT
DTSTART;TZID=America/Chicago:20291230T103000
DTEND;TZID=America/Chicago:20291230T120000
DTSTAMP:20260424T225435
CREATED:20220331T212513Z
LAST-MODIFIED:20251207T001341Z
UID:10001889-1893321000-1893326400@barnchurch.com
SUMMARY:Sunday Morning Worship
DESCRIPTION:Join us for weekly worship\, every Sunday morning at 10:30am in the sanctuary. \n\n\nWe begin with praise and worship with Roger Morris and Bill Gruhlkey. \n\n\nThen\, Pastor Guy Walker brings the word\, always relevant to our lives and deeply rooted in scripture. \n\n\nWe don’t stand on ceremony\, so come as you are. Y’all are welcome here.
URL:https://barnchurch.com/event/377/2029-12-30/
LOCATION:Barn Church\, 3948 FM1057\, Hereford\, TX\, 79045\, United States
CATEGORIES:Sunday Worship
ATTACH;FMTTYPE=image/jpeg:https://barnchurch.com/wp-content/uploads/2022/03/2026-BC-Worship-Service-Hero-Image.jpg
END:VEVENT
BEGIN:VEVENT
DTSTART;TZID=America/Chicago:20300106T103000
DTEND;TZID=America/Chicago:20300106T120000
DTSTAMP:20260424T225435
CREATED:20220331T212513Z
LAST-MODIFIED:20251207T001341Z
UID:10002127-1893925800-1893931200@barnchurch.com
SUMMARY:Sunday Morning Worship
DESCRIPTION:Join us for weekly worship\, every Sunday morning at 10:30am in the sanctuary. \n\n\nWe begin with praise and worship with Roger Morris and Bill Gruhlkey. \n\n\nThen\, Pastor Guy Walker brings the word\, always relevant to our lives and deeply rooted in scripture. \n\n\nWe don’t stand on ceremony\, so come as you are. Y’all are welcome here.
URL:https://barnchurch.com/event/377/2030-01-06/
LOCATION:Barn Church\, 3948 FM1057\, Hereford\, TX\, 79045\, United States
CATEGORIES:Sunday Worship
ATTACH;FMTTYPE=image/jpeg:https://barnchurch.com/wp-content/uploads/2022/03/2026-BC-Worship-Service-Hero-Image.jpg
END:VEVENT
BEGIN:VEVENT
DTSTART;TZID=America/Chicago:20300113T103000
DTEND;TZID=America/Chicago:20300113T120000
DTSTAMP:20260424T225435
CREATED:20220331T212513Z
LAST-MODIFIED:20251207T001341Z
UID:10001909-1894530600-1894536000@barnchurch.com
SUMMARY:Sunday Morning Worship
DESCRIPTION:Join us for weekly worship\, every Sunday morning at 10:30am in the sanctuary. \n\n\nWe begin with praise and worship with Roger Morris and Bill Gruhlkey. \n\n\nThen\, Pastor Guy Walker brings the word\, always relevant to our lives and deeply rooted in scripture. \n\n\nWe don’t stand on ceremony\, so come as you are. Y’all are welcome here.
URL:https://barnchurch.com/event/377/2030-01-13/
LOCATION:Barn Church\, 3948 FM1057\, Hereford\, TX\, 79045\, United States
CATEGORIES:Sunday Worship
ATTACH;FMTTYPE=image/jpeg:https://barnchurch.com/wp-content/uploads/2022/03/2026-BC-Worship-Service-Hero-Image.jpg
END:VEVENT
BEGIN:VEVENT
DTSTART;TZID=America/Chicago:20300120T103000
DTEND;TZID=America/Chicago:20300120T120000
DTSTAMP:20260424T225435
CREATED:20220331T212513Z
LAST-MODIFIED:20251207T001341Z
UID:10001910-1895135400-1895140800@barnchurch.com
SUMMARY:Sunday Morning Worship
DESCRIPTION:Join us for weekly worship\, every Sunday morning at 10:30am in the sanctuary. \n\n\nWe begin with praise and worship with Roger Morris and Bill Gruhlkey. \n\n\nThen\, Pastor Guy Walker brings the word\, always relevant to our lives and deeply rooted in scripture. \n\n\nWe don’t stand on ceremony\, so come as you are. Y’all are welcome here.
URL:https://barnchurch.com/event/377/2030-01-20/
LOCATION:Barn Church\, 3948 FM1057\, Hereford\, TX\, 79045\, United States
CATEGORIES:Sunday Worship
ATTACH;FMTTYPE=image/jpeg:https://barnchurch.com/wp-content/uploads/2022/03/2026-BC-Worship-Service-Hero-Image.jpg
END:VEVENT
BEGIN:VEVENT
DTSTART;TZID=America/Chicago:20300127T103000
DTEND;TZID=America/Chicago:20300127T120000
DTSTAMP:20260424T225435
CREATED:20220331T212513Z
LAST-MODIFIED:20251207T001341Z
UID:10001911-1895740200-1895745600@barnchurch.com
SUMMARY:Sunday Morning Worship
DESCRIPTION:Join us for weekly worship\, every Sunday morning at 10:30am in the sanctuary. \n\n\nWe begin with praise and worship with Roger Morris and Bill Gruhlkey. \n\n\nThen\, Pastor Guy Walker brings the word\, always relevant to our lives and deeply rooted in scripture. \n\n\nWe don’t stand on ceremony\, so come as you are. Y’all are welcome here.
URL:https://barnchurch.com/event/377/2030-01-27/
LOCATION:Barn Church\, 3948 FM1057\, Hereford\, TX\, 79045\, United States
CATEGORIES:Sunday Worship
ATTACH;FMTTYPE=image/jpeg:https://barnchurch.com/wp-content/uploads/2022/03/2026-BC-Worship-Service-Hero-Image.jpg
END:VEVENT
BEGIN:VEVENT
DTSTART;TZID=America/Chicago:20300203T103000
DTEND;TZID=America/Chicago:20300203T120000
DTSTAMP:20260424T225435
CREATED:20220331T212513Z
LAST-MODIFIED:20251207T001341Z
UID:10002128-1896345000-1896350400@barnchurch.com
SUMMARY:Sunday Morning Worship
DESCRIPTION:Join us for weekly worship\, every Sunday morning at 10:30am in the sanctuary. \n\n\nWe begin with praise and worship with Roger Morris and Bill Gruhlkey. \n\n\nThen\, Pastor Guy Walker brings the word\, always relevant to our lives and deeply rooted in scripture. \n\n\nWe don’t stand on ceremony\, so come as you are. Y’all are welcome here.
URL:https://barnchurch.com/event/377/2030-02-03/
LOCATION:Barn Church\, 3948 FM1057\, Hereford\, TX\, 79045\, United States
CATEGORIES:Sunday Worship
ATTACH;FMTTYPE=image/jpeg:https://barnchurch.com/wp-content/uploads/2022/03/2026-BC-Worship-Service-Hero-Image.jpg
END:VEVENT
BEGIN:VEVENT
DTSTART;TZID=America/Chicago:20300210T103000
DTEND;TZID=America/Chicago:20300210T120000
DTSTAMP:20260424T225435
CREATED:20220331T212513Z
LAST-MODIFIED:20251207T001341Z
UID:10001912-1896949800-1896955200@barnchurch.com
SUMMARY:Sunday Morning Worship
DESCRIPTION:Join us for weekly worship\, every Sunday morning at 10:30am in the sanctuary. \n\n\nWe begin with praise and worship with Roger Morris and Bill Gruhlkey. \n\n\nThen\, Pastor Guy Walker brings the word\, always relevant to our lives and deeply rooted in scripture. \n\n\nWe don’t stand on ceremony\, so come as you are. Y’all are welcome here.
URL:https://barnchurch.com/event/377/2030-02-10/
LOCATION:Barn Church\, 3948 FM1057\, Hereford\, TX\, 79045\, United States
CATEGORIES:Sunday Worship
ATTACH;FMTTYPE=image/jpeg:https://barnchurch.com/wp-content/uploads/2022/03/2026-BC-Worship-Service-Hero-Image.jpg
END:VEVENT
BEGIN:VEVENT
DTSTART;TZID=America/Chicago:20300217T103000
DTEND;TZID=America/Chicago:20300217T120000
DTSTAMP:20260424T225435
CREATED:20220331T212513Z
LAST-MODIFIED:20251207T001341Z
UID:10001913-1897554600-1897560000@barnchurch.com
SUMMARY:Sunday Morning Worship
DESCRIPTION:Join us for weekly worship\, every Sunday morning at 10:30am in the sanctuary. \n\n\nWe begin with praise and worship with Roger Morris and Bill Gruhlkey. \n\n\nThen\, Pastor Guy Walker brings the word\, always relevant to our lives and deeply rooted in scripture. \n\n\nWe don’t stand on ceremony\, so come as you are. Y’all are welcome here.
URL:https://barnchurch.com/event/377/2030-02-17/
LOCATION:Barn Church\, 3948 FM1057\, Hereford\, TX\, 79045\, United States
CATEGORIES:Sunday Worship
ATTACH;FMTTYPE=image/jpeg:https://barnchurch.com/wp-content/uploads/2022/03/2026-BC-Worship-Service-Hero-Image.jpg
END:VEVENT
BEGIN:VEVENT
DTSTART;TZID=America/Chicago:20300224T103000
DTEND;TZID=America/Chicago:20300224T120000
DTSTAMP:20260424T225435
CREATED:20220331T212513Z
LAST-MODIFIED:20251207T001341Z
UID:10001914-1898159400-1898164800@barnchurch.com
SUMMARY:Sunday Morning Worship
DESCRIPTION:Join us for weekly worship\, every Sunday morning at 10:30am in the sanctuary. \n\n\nWe begin with praise and worship with Roger Morris and Bill Gruhlkey. \n\n\nThen\, Pastor Guy Walker brings the word\, always relevant to our lives and deeply rooted in scripture. \n\n\nWe don’t stand on ceremony\, so come as you are. Y’all are welcome here.
URL:https://barnchurch.com/event/377/2030-02-24/
LOCATION:Barn Church\, 3948 FM1057\, Hereford\, TX\, 79045\, United States
CATEGORIES:Sunday Worship
ATTACH;FMTTYPE=image/jpeg:https://barnchurch.com/wp-content/uploads/2022/03/2026-BC-Worship-Service-Hero-Image.jpg
END:VEVENT
BEGIN:VEVENT
DTSTART;TZID=America/Chicago:20300303T103000
DTEND;TZID=America/Chicago:20300303T120000
DTSTAMP:20260424T225435
CREATED:20220331T212513Z
LAST-MODIFIED:20251207T001341Z
UID:10002129-1898764200-1898769600@barnchurch.com
SUMMARY:Sunday Morning Worship
DESCRIPTION:Join us for weekly worship\, every Sunday morning at 10:30am in the sanctuary. \n\n\nWe begin with praise and worship with Roger Morris and Bill Gruhlkey. \n\n\nThen\, Pastor Guy Walker brings the word\, always relevant to our lives and deeply rooted in scripture. \n\n\nWe don’t stand on ceremony\, so come as you are. Y’all are welcome here.
URL:https://barnchurch.com/event/377/2030-03-03/
LOCATION:Barn Church\, 3948 FM1057\, Hereford\, TX\, 79045\, United States
CATEGORIES:Sunday Worship
ATTACH;FMTTYPE=image/jpeg:https://barnchurch.com/wp-content/uploads/2022/03/2026-BC-Worship-Service-Hero-Image.jpg
END:VEVENT
BEGIN:VEVENT
DTSTART;TZID=America/Chicago:20300310T103000
DTEND;TZID=America/Chicago:20300310T120000
DTSTAMP:20260424T225435
CREATED:20220331T212513Z
LAST-MODIFIED:20251207T001341Z
UID:10001915-1899369000-1899374400@barnchurch.com
SUMMARY:Sunday Morning Worship
DESCRIPTION:Join us for weekly worship\, every Sunday morning at 10:30am in the sanctuary. \n\n\nWe begin with praise and worship with Roger Morris and Bill Gruhlkey. \n\n\nThen\, Pastor Guy Walker brings the word\, always relevant to our lives and deeply rooted in scripture. \n\n\nWe don’t stand on ceremony\, so come as you are. Y’all are welcome here.
URL:https://barnchurch.com/event/377/2030-03-10/
LOCATION:Barn Church\, 3948 FM1057\, Hereford\, TX\, 79045\, United States
CATEGORIES:Sunday Worship
ATTACH;FMTTYPE=image/jpeg:https://barnchurch.com/wp-content/uploads/2022/03/2026-BC-Worship-Service-Hero-Image.jpg
END:VEVENT
BEGIN:VEVENT
DTSTART;TZID=America/Chicago:20300317T103000
DTEND;TZID=America/Chicago:20300317T120000
DTSTAMP:20260424T225435
CREATED:20220331T212513Z
LAST-MODIFIED:20251207T001341Z
UID:10001916-1899973800-1899979200@barnchurch.com
SUMMARY:Sunday Morning Worship
DESCRIPTION:Join us for weekly worship\, every Sunday morning at 10:30am in the sanctuary. \n\n\nWe begin with praise and worship with Roger Morris and Bill Gruhlkey. \n\n\nThen\, Pastor Guy Walker brings the word\, always relevant to our lives and deeply rooted in scripture. \n\n\nWe don’t stand on ceremony\, so come as you are. Y’all are welcome here.
URL:https://barnchurch.com/event/377/2030-03-17/
LOCATION:Barn Church\, 3948 FM1057\, Hereford\, TX\, 79045\, United States
CATEGORIES:Sunday Worship
ATTACH;FMTTYPE=image/jpeg:https://barnchurch.com/wp-content/uploads/2022/03/2026-BC-Worship-Service-Hero-Image.jpg
END:VEVENT
BEGIN:VEVENT
DTSTART;TZID=America/Chicago:20300324T103000
DTEND;TZID=America/Chicago:20300324T120000
DTSTAMP:20260424T225435
CREATED:20220331T212513Z
LAST-MODIFIED:20251207T001341Z
UID:10001917-1900578600-1900584000@barnchurch.com
SUMMARY:Sunday Morning Worship
DESCRIPTION:Join us for weekly worship\, every Sunday morning at 10:30am in the sanctuary. \n\n\nWe begin with praise and worship with Roger Morris and Bill Gruhlkey. \n\n\nThen\, Pastor Guy Walker brings the word\, always relevant to our lives and deeply rooted in scripture. \n\n\nWe don’t stand on ceremony\, so come as you are. Y’all are welcome here.
URL:https://barnchurch.com/event/377/2030-03-24/
LOCATION:Barn Church\, 3948 FM1057\, Hereford\, TX\, 79045\, United States
CATEGORIES:Sunday Worship
ATTACH;FMTTYPE=image/jpeg:https://barnchurch.com/wp-content/uploads/2022/03/2026-BC-Worship-Service-Hero-Image.jpg
END:VEVENT
BEGIN:VEVENT
DTSTART;TZID=America/Chicago:20300331T103000
DTEND;TZID=America/Chicago:20300331T120000
DTSTAMP:20260424T225435
CREATED:20220331T212513Z
LAST-MODIFIED:20251207T001341Z
UID:10001918-1901183400-1901188800@barnchurch.com
SUMMARY:Sunday Morning Worship
DESCRIPTION:Join us for weekly worship\, every Sunday morning at 10:30am in the sanctuary. \n\n\nWe begin with praise and worship with Roger Morris and Bill Gruhlkey. \n\n\nThen\, Pastor Guy Walker brings the word\, always relevant to our lives and deeply rooted in scripture. \n\n\nWe don’t stand on ceremony\, so come as you are. Y’all are welcome here.
URL:https://barnchurch.com/event/377/2030-03-31/
LOCATION:Barn Church\, 3948 FM1057\, Hereford\, TX\, 79045\, United States
CATEGORIES:Sunday Worship
ATTACH;FMTTYPE=image/jpeg:https://barnchurch.com/wp-content/uploads/2022/03/2026-BC-Worship-Service-Hero-Image.jpg
END:VEVENT
BEGIN:VEVENT
DTSTART;TZID=America/Chicago:20300407T103000
DTEND;TZID=America/Chicago:20300407T120000
DTSTAMP:20260424T225435
CREATED:20220331T212513Z
LAST-MODIFIED:20251207T001341Z
UID:10002130-1901788200-1901793600@barnchurch.com
SUMMARY:Sunday Morning Worship
DESCRIPTION:Join us for weekly worship\, every Sunday morning at 10:30am in the sanctuary. \n\n\nWe begin with praise and worship with Roger Morris and Bill Gruhlkey. \n\n\nThen\, Pastor Guy Walker brings the word\, always relevant to our lives and deeply rooted in scripture. \n\n\nWe don’t stand on ceremony\, so come as you are. Y’all are welcome here.
URL:https://barnchurch.com/event/377/2030-04-07/
LOCATION:Barn Church\, 3948 FM1057\, Hereford\, TX\, 79045\, United States
CATEGORIES:Sunday Worship
ATTACH;FMTTYPE=image/jpeg:https://barnchurch.com/wp-content/uploads/2022/03/2026-BC-Worship-Service-Hero-Image.jpg
END:VEVENT
BEGIN:VEVENT
DTSTART;TZID=America/Chicago:20300414T103000
DTEND;TZID=America/Chicago:20300414T120000
DTSTAMP:20260424T225435
CREATED:20220331T212513Z
LAST-MODIFIED:20251207T001341Z
UID:10001919-1902393000-1902398400@barnchurch.com
SUMMARY:Sunday Morning Worship
DESCRIPTION:Join us for weekly worship\, every Sunday morning at 10:30am in the sanctuary. \n\n\nWe begin with praise and worship with Roger Morris and Bill Gruhlkey. \n\n\nThen\, Pastor Guy Walker brings the word\, always relevant to our lives and deeply rooted in scripture. \n\n\nWe don’t stand on ceremony\, so come as you are. Y’all are welcome here.
URL:https://barnchurch.com/event/377/2030-04-14/
LOCATION:Barn Church\, 3948 FM1057\, Hereford\, TX\, 79045\, United States
CATEGORIES:Sunday Worship
ATTACH;FMTTYPE=image/jpeg:https://barnchurch.com/wp-content/uploads/2022/03/2026-BC-Worship-Service-Hero-Image.jpg
END:VEVENT
BEGIN:VEVENT
DTSTART;TZID=America/Chicago:20300421T103000
DTEND;TZID=America/Chicago:20300421T120000
DTSTAMP:20260424T225435
CREATED:20220331T212513Z
LAST-MODIFIED:20251207T001341Z
UID:10001920-1902997800-1903003200@barnchurch.com
SUMMARY:Sunday Morning Worship
DESCRIPTION:Join us for weekly worship\, every Sunday morning at 10:30am in the sanctuary. \n\n\nWe begin with praise and worship with Roger Morris and Bill Gruhlkey. \n\n\nThen\, Pastor Guy Walker brings the word\, always relevant to our lives and deeply rooted in scripture. \n\n\nWe don’t stand on ceremony\, so come as you are. Y’all are welcome here.
URL:https://barnchurch.com/event/377/2030-04-21/
LOCATION:Barn Church\, 3948 FM1057\, Hereford\, TX\, 79045\, United States
CATEGORIES:Sunday Worship
ATTACH;FMTTYPE=image/jpeg:https://barnchurch.com/wp-content/uploads/2022/03/2026-BC-Worship-Service-Hero-Image.jpg
END:VEVENT
BEGIN:VEVENT
DTSTART;TZID=America/Chicago:20300428T103000
DTEND;TZID=America/Chicago:20300428T120000
DTSTAMP:20260424T225435
CREATED:20220331T212513Z
LAST-MODIFIED:20251207T001341Z
UID:10001921-1903602600-1903608000@barnchurch.com
SUMMARY:Sunday Morning Worship
DESCRIPTION:Join us for weekly worship\, every Sunday morning at 10:30am in the sanctuary. \n\n\nWe begin with praise and worship with Roger Morris and Bill Gruhlkey. \n\n\nThen\, Pastor Guy Walker brings the word\, always relevant to our lives and deeply rooted in scripture. \n\n\nWe don’t stand on ceremony\, so come as you are. Y’all are welcome here.
URL:https://barnchurch.com/event/377/2030-04-28/
LOCATION:Barn Church\, 3948 FM1057\, Hereford\, TX\, 79045\, United States
CATEGORIES:Sunday Worship
ATTACH;FMTTYPE=image/jpeg:https://barnchurch.com/wp-content/uploads/2022/03/2026-BC-Worship-Service-Hero-Image.jpg
END:VEVENT
END:VCALENDAR