BEGIN:VCALENDAR
VERSION:2.0
PRODID:-//Barn Church - ECPv6.15.20//NONSGML v1.0//EN
CALSCALE:GREGORIAN
METHOD:PUBLISH
X-WR-CALNAME:Barn Church
X-ORIGINAL-URL:https://barnchurch.com
X-WR-CALDESC:Events for Barn Church
REFRESH-INTERVAL;VALUE=DURATION:PT1H
X-Robots-Tag:noindex
X-PUBLISHED-TTL:PT1H
BEGIN:VTIMEZONE
TZID:America/Chicago
BEGIN:DAYLIGHT
TZOFFSETFROM:-0600
TZOFFSETTO:-0500
TZNAME:CDT
DTSTART:20250309T080000
END:DAYLIGHT
BEGIN:STANDARD
TZOFFSETFROM:-0500
TZOFFSETTO:-0600
TZNAME:CST
DTSTART:20251102T070000
END:STANDARD
BEGIN:DAYLIGHT
TZOFFSETFROM:-0600
TZOFFSETTO:-0500
TZNAME:CDT
DTSTART:20260308T080000
END:DAYLIGHT
BEGIN:STANDARD
TZOFFSETFROM:-0500
TZOFFSETTO:-0600
TZNAME:CST
DTSTART:20261101T070000
END:STANDARD
BEGIN:DAYLIGHT
TZOFFSETFROM:-0600
TZOFFSETTO:-0500
TZNAME:CDT
DTSTART:20270314T080000
END:DAYLIGHT
BEGIN:STANDARD
TZOFFSETFROM:-0500
TZOFFSETTO:-0600
TZNAME:CST
DTSTART:20271107T070000
END:STANDARD
END:VTIMEZONE
BEGIN:VEVENT
DTSTART;TZID=America/Chicago:20260426T103000
DTEND;TZID=America/Chicago:20260426T120000
DTSTAMP:20260423T220010
CREATED:20220331T212513Z
LAST-MODIFIED:20251207T001341Z
UID:10001335-1777199400-1777204800@barnchurch.com
SUMMARY:Sunday Morning Worship
DESCRIPTION:Due to the inclement weather\, all services for Sunday\, January 25\, 2026 have been cancelled.  Stay home. Stay warm. Stay safe. 
URL:https://barnchurch.com/event/377/2026-04-26/
LOCATION:Barn Church\, 3948 FM1057\, Hereford\, TX\, 79045\, United States
CATEGORIES:Sunday Worship
ATTACH;FMTTYPE=image/jpeg:https://barnchurch.com/wp-content/uploads/2022/03/2026-BC-Worship-Service-Hero-Image.jpg
END:VEVENT
BEGIN:VEVENT
DTSTART;TZID=America/Chicago:20260503T103000
DTEND;TZID=America/Chicago:20260503T120000
DTSTAMP:20260423T220010
CREATED:20220331T212513Z
LAST-MODIFIED:20251207T001341Z
UID:10002083-1777804200-1777809600@barnchurch.com
SUMMARY:Sunday Morning Worship
DESCRIPTION:Due to the inclement weather\, all services for Sunday\, January 25\, 2026 have been cancelled.  Stay home. Stay warm. Stay safe. 
URL:https://barnchurch.com/event/377/2026-05-03/
LOCATION:Barn Church\, 3948 FM1057\, Hereford\, TX\, 79045\, United States
CATEGORIES:Sunday Worship
ATTACH;FMTTYPE=image/jpeg:https://barnchurch.com/wp-content/uploads/2022/03/2026-BC-Worship-Service-Hero-Image.jpg
END:VEVENT
BEGIN:VEVENT
DTSTART;TZID=America/Chicago:20260510T103000
DTEND;TZID=America/Chicago:20260510T120000
DTSTAMP:20260423T220010
CREATED:20220331T212513Z
LAST-MODIFIED:20251207T001341Z
UID:10001336-1778409000-1778414400@barnchurch.com
SUMMARY:Sunday Morning Worship
DESCRIPTION:Due to the inclement weather\, all services for Sunday\, January 25\, 2026 have been cancelled.  Stay home. Stay warm. Stay safe. 
URL:https://barnchurch.com/event/377/2026-05-10/
LOCATION:Barn Church\, 3948 FM1057\, Hereford\, TX\, 79045\, United States
CATEGORIES:Sunday Worship
ATTACH;FMTTYPE=image/jpeg:https://barnchurch.com/wp-content/uploads/2022/03/2026-BC-Worship-Service-Hero-Image.jpg
END:VEVENT
BEGIN:VEVENT
DTSTART;TZID=America/Chicago:20260517T103000
DTEND;TZID=America/Chicago:20260517T120000
DTSTAMP:20260423T220010
CREATED:20220331T212513Z
LAST-MODIFIED:20251207T001341Z
UID:10001337-1779013800-1779019200@barnchurch.com
SUMMARY:Sunday Morning Worship
DESCRIPTION:Due to the inclement weather\, all services for Sunday\, January 25\, 2026 have been cancelled.  Stay home. Stay warm. Stay safe. 
URL:https://barnchurch.com/event/377/2026-05-17/
LOCATION:Barn Church\, 3948 FM1057\, Hereford\, TX\, 79045\, United States
CATEGORIES:Sunday Worship
ATTACH;FMTTYPE=image/jpeg:https://barnchurch.com/wp-content/uploads/2022/03/2026-BC-Worship-Service-Hero-Image.jpg
END:VEVENT
BEGIN:VEVENT
DTSTART;TZID=America/Chicago:20260524T103000
DTEND;TZID=America/Chicago:20260524T120000
DTSTAMP:20260423T220010
CREATED:20220331T212513Z
LAST-MODIFIED:20251207T001341Z
UID:10001338-1779618600-1779624000@barnchurch.com
SUMMARY:Sunday Morning Worship
DESCRIPTION:Due to the inclement weather\, all services for Sunday\, January 25\, 2026 have been cancelled.  Stay home. Stay warm. Stay safe. 
URL:https://barnchurch.com/event/377/2026-05-24/
LOCATION:Barn Church\, 3948 FM1057\, Hereford\, TX\, 79045\, United States
CATEGORIES:Sunday Worship
ATTACH;FMTTYPE=image/jpeg:https://barnchurch.com/wp-content/uploads/2022/03/2026-BC-Worship-Service-Hero-Image.jpg
END:VEVENT
BEGIN:VEVENT
DTSTART;TZID=America/Chicago:20260531T103000
DTEND;TZID=America/Chicago:20260531T120000
DTSTAMP:20260423T220010
CREATED:20220331T212513Z
LAST-MODIFIED:20251207T001341Z
UID:10001339-1780223400-1780228800@barnchurch.com
SUMMARY:Sunday Morning Worship
DESCRIPTION:Due to the inclement weather\, all services for Sunday\, January 25\, 2026 have been cancelled.  Stay home. Stay warm. Stay safe. 
URL:https://barnchurch.com/event/377/2026-05-31/
LOCATION:Barn Church\, 3948 FM1057\, Hereford\, TX\, 79045\, United States
CATEGORIES:Sunday Worship
ATTACH;FMTTYPE=image/jpeg:https://barnchurch.com/wp-content/uploads/2022/03/2026-BC-Worship-Service-Hero-Image.jpg
END:VEVENT
BEGIN:VEVENT
DTSTART;TZID=America/Chicago:20260607T103000
DTEND;TZID=America/Chicago:20260607T120000
DTSTAMP:20260423T220010
CREATED:20220331T212513Z
LAST-MODIFIED:20251207T001341Z
UID:10002084-1780828200-1780833600@barnchurch.com
SUMMARY:Sunday Morning Worship
DESCRIPTION:Due to the inclement weather\, all services for Sunday\, January 25\, 2026 have been cancelled.  Stay home. Stay warm. Stay safe. 
URL:https://barnchurch.com/event/377/2026-06-07/
LOCATION:Barn Church\, 3948 FM1057\, Hereford\, TX\, 79045\, United States
CATEGORIES:Sunday Worship
ATTACH;FMTTYPE=image/jpeg:https://barnchurch.com/wp-content/uploads/2022/03/2026-BC-Worship-Service-Hero-Image.jpg
END:VEVENT
BEGIN:VEVENT
DTSTART;TZID=America/Chicago:20260614T103000
DTEND;TZID=America/Chicago:20260614T120000
DTSTAMP:20260423T220010
CREATED:20220331T212513Z
LAST-MODIFIED:20251207T001341Z
UID:10001340-1781433000-1781438400@barnchurch.com
SUMMARY:Sunday Morning Worship
DESCRIPTION:Due to the inclement weather\, all services for Sunday\, January 25\, 2026 have been cancelled.  Stay home. Stay warm. Stay safe. 
URL:https://barnchurch.com/event/377/2026-06-14/
LOCATION:Barn Church\, 3948 FM1057\, Hereford\, TX\, 79045\, United States
CATEGORIES:Sunday Worship
ATTACH;FMTTYPE=image/jpeg:https://barnchurch.com/wp-content/uploads/2022/03/2026-BC-Worship-Service-Hero-Image.jpg
END:VEVENT
BEGIN:VEVENT
DTSTART;TZID=America/Chicago:20260621T103000
DTEND;TZID=America/Chicago:20260621T120000
DTSTAMP:20260423T220010
CREATED:20220331T212513Z
LAST-MODIFIED:20251207T001341Z
UID:10001341-1782037800-1782043200@barnchurch.com
SUMMARY:Sunday Morning Worship
DESCRIPTION:Due to the inclement weather\, all services for Sunday\, January 25\, 2026 have been cancelled.  Stay home. Stay warm. Stay safe. 
URL:https://barnchurch.com/event/377/2026-06-21/
LOCATION:Barn Church\, 3948 FM1057\, Hereford\, TX\, 79045\, United States
CATEGORIES:Sunday Worship
ATTACH;FMTTYPE=image/jpeg:https://barnchurch.com/wp-content/uploads/2022/03/2026-BC-Worship-Service-Hero-Image.jpg
END:VEVENT
BEGIN:VEVENT
DTSTART;TZID=America/Chicago:20260628T103000
DTEND;TZID=America/Chicago:20260628T120000
DTSTAMP:20260423T220010
CREATED:20220331T212513Z
LAST-MODIFIED:20251207T001341Z
UID:10001342-1782642600-1782648000@barnchurch.com
SUMMARY:Sunday Morning Worship
DESCRIPTION:Due to the inclement weather\, all services for Sunday\, January 25\, 2026 have been cancelled.  Stay home. Stay warm. Stay safe. 
URL:https://barnchurch.com/event/377/2026-06-28/
LOCATION:Barn Church\, 3948 FM1057\, Hereford\, TX\, 79045\, United States
CATEGORIES:Sunday Worship
ATTACH;FMTTYPE=image/jpeg:https://barnchurch.com/wp-content/uploads/2022/03/2026-BC-Worship-Service-Hero-Image.jpg
END:VEVENT
BEGIN:VEVENT
DTSTART;TZID=America/Chicago:20260705T103000
DTEND;TZID=America/Chicago:20260705T120000
DTSTAMP:20260423T220010
CREATED:20220331T212513Z
LAST-MODIFIED:20251207T001341Z
UID:10002085-1783247400-1783252800@barnchurch.com
SUMMARY:Sunday Morning Worship
DESCRIPTION:Due to the inclement weather\, all services for Sunday\, January 25\, 2026 have been cancelled.  Stay home. Stay warm. Stay safe. 
URL:https://barnchurch.com/event/377/2026-07-05/
LOCATION:Barn Church\, 3948 FM1057\, Hereford\, TX\, 79045\, United States
CATEGORIES:Sunday Worship
ATTACH;FMTTYPE=image/jpeg:https://barnchurch.com/wp-content/uploads/2022/03/2026-BC-Worship-Service-Hero-Image.jpg
END:VEVENT
BEGIN:VEVENT
DTSTART;TZID=America/Chicago:20260712T103000
DTEND;TZID=America/Chicago:20260712T120000
DTSTAMP:20260423T220010
CREATED:20220331T212513Z
LAST-MODIFIED:20251207T001341Z
UID:10001343-1783852200-1783857600@barnchurch.com
SUMMARY:Sunday Morning Worship
DESCRIPTION:Due to the inclement weather\, all services for Sunday\, January 25\, 2026 have been cancelled.  Stay home. Stay warm. Stay safe. 
URL:https://barnchurch.com/event/377/2026-07-12/
LOCATION:Barn Church\, 3948 FM1057\, Hereford\, TX\, 79045\, United States
CATEGORIES:Sunday Worship
ATTACH;FMTTYPE=image/jpeg:https://barnchurch.com/wp-content/uploads/2022/03/2026-BC-Worship-Service-Hero-Image.jpg
END:VEVENT
BEGIN:VEVENT
DTSTART;TZID=America/Chicago:20260719T103000
DTEND;TZID=America/Chicago:20260719T120000
DTSTAMP:20260423T220010
CREATED:20220331T212513Z
LAST-MODIFIED:20251207T001341Z
UID:10001344-1784457000-1784462400@barnchurch.com
SUMMARY:Sunday Morning Worship
DESCRIPTION:Due to the inclement weather\, all services for Sunday\, January 25\, 2026 have been cancelled.  Stay home. Stay warm. Stay safe. 
URL:https://barnchurch.com/event/377/2026-07-19/
LOCATION:Barn Church\, 3948 FM1057\, Hereford\, TX\, 79045\, United States
CATEGORIES:Sunday Worship
ATTACH;FMTTYPE=image/jpeg:https://barnchurch.com/wp-content/uploads/2022/03/2026-BC-Worship-Service-Hero-Image.jpg
END:VEVENT
BEGIN:VEVENT
DTSTART;TZID=America/Chicago:20260726T103000
DTEND;TZID=America/Chicago:20260726T120000
DTSTAMP:20260423T220010
CREATED:20220331T212513Z
LAST-MODIFIED:20251207T001341Z
UID:10001345-1785061800-1785067200@barnchurch.com
SUMMARY:Sunday Morning Worship
DESCRIPTION:Due to the inclement weather\, all services for Sunday\, January 25\, 2026 have been cancelled.  Stay home. Stay warm. Stay safe. 
URL:https://barnchurch.com/event/377/2026-07-26/
LOCATION:Barn Church\, 3948 FM1057\, Hereford\, TX\, 79045\, United States
CATEGORIES:Sunday Worship
ATTACH;FMTTYPE=image/jpeg:https://barnchurch.com/wp-content/uploads/2022/03/2026-BC-Worship-Service-Hero-Image.jpg
END:VEVENT
BEGIN:VEVENT
DTSTART;TZID=America/Chicago:20260802T103000
DTEND;TZID=America/Chicago:20260802T120000
DTSTAMP:20260423T220010
CREATED:20220331T212513Z
LAST-MODIFIED:20251207T001341Z
UID:10002086-1785666600-1785672000@barnchurch.com
SUMMARY:Sunday Morning Worship
DESCRIPTION:Due to the inclement weather\, all services for Sunday\, January 25\, 2026 have been cancelled.  Stay home. Stay warm. Stay safe. 
URL:https://barnchurch.com/event/377/2026-08-02/
LOCATION:Barn Church\, 3948 FM1057\, Hereford\, TX\, 79045\, United States
CATEGORIES:Sunday Worship
ATTACH;FMTTYPE=image/jpeg:https://barnchurch.com/wp-content/uploads/2022/03/2026-BC-Worship-Service-Hero-Image.jpg
END:VEVENT
BEGIN:VEVENT
DTSTART;TZID=America/Chicago:20260809T103000
DTEND;TZID=America/Chicago:20260809T120000
DTSTAMP:20260423T220010
CREATED:20220331T212513Z
LAST-MODIFIED:20251207T001341Z
UID:10001346-1786271400-1786276800@barnchurch.com
SUMMARY:Sunday Morning Worship
DESCRIPTION:Due to the inclement weather\, all services for Sunday\, January 25\, 2026 have been cancelled.  Stay home. Stay warm. Stay safe. 
URL:https://barnchurch.com/event/377/2026-08-09/
LOCATION:Barn Church\, 3948 FM1057\, Hereford\, TX\, 79045\, United States
CATEGORIES:Sunday Worship
ATTACH;FMTTYPE=image/jpeg:https://barnchurch.com/wp-content/uploads/2022/03/2026-BC-Worship-Service-Hero-Image.jpg
END:VEVENT
BEGIN:VEVENT
DTSTART;TZID=America/Chicago:20260816T103000
DTEND;TZID=America/Chicago:20260816T120000
DTSTAMP:20260423T220010
CREATED:20220331T212513Z
LAST-MODIFIED:20251207T001341Z
UID:10001347-1786876200-1786881600@barnchurch.com
SUMMARY:Sunday Morning Worship
DESCRIPTION:Due to the inclement weather\, all services for Sunday\, January 25\, 2026 have been cancelled.  Stay home. Stay warm. Stay safe. 
URL:https://barnchurch.com/event/377/2026-08-16/
LOCATION:Barn Church\, 3948 FM1057\, Hereford\, TX\, 79045\, United States
CATEGORIES:Sunday Worship
ATTACH;FMTTYPE=image/jpeg:https://barnchurch.com/wp-content/uploads/2022/03/2026-BC-Worship-Service-Hero-Image.jpg
END:VEVENT
BEGIN:VEVENT
DTSTART;TZID=America/Chicago:20260823T103000
DTEND;TZID=America/Chicago:20260823T120000
DTSTAMP:20260423T220010
CREATED:20220331T212513Z
LAST-MODIFIED:20251207T001341Z
UID:10001348-1787481000-1787486400@barnchurch.com
SUMMARY:Sunday Morning Worship
DESCRIPTION:Due to the inclement weather\, all services for Sunday\, January 25\, 2026 have been cancelled.  Stay home. Stay warm. Stay safe. 
URL:https://barnchurch.com/event/377/2026-08-23/
LOCATION:Barn Church\, 3948 FM1057\, Hereford\, TX\, 79045\, United States
CATEGORIES:Sunday Worship
ATTACH;FMTTYPE=image/jpeg:https://barnchurch.com/wp-content/uploads/2022/03/2026-BC-Worship-Service-Hero-Image.jpg
END:VEVENT
BEGIN:VEVENT
DTSTART;TZID=America/Chicago:20260830T103000
DTEND;TZID=America/Chicago:20260830T120000
DTSTAMP:20260423T220010
CREATED:20220331T212513Z
LAST-MODIFIED:20251207T001341Z
UID:10001349-1788085800-1788091200@barnchurch.com
SUMMARY:Sunday Morning Worship
DESCRIPTION:Due to the inclement weather\, all services for Sunday\, January 25\, 2026 have been cancelled.  Stay home. Stay warm. Stay safe. 
URL:https://barnchurch.com/event/377/2026-08-30/
LOCATION:Barn Church\, 3948 FM1057\, Hereford\, TX\, 79045\, United States
CATEGORIES:Sunday Worship
ATTACH;FMTTYPE=image/jpeg:https://barnchurch.com/wp-content/uploads/2022/03/2026-BC-Worship-Service-Hero-Image.jpg
END:VEVENT
BEGIN:VEVENT
DTSTART;TZID=America/Chicago:20260906T103000
DTEND;TZID=America/Chicago:20260906T120000
DTSTAMP:20260423T220010
CREATED:20220331T212513Z
LAST-MODIFIED:20251207T001341Z
UID:10002087-1788690600-1788696000@barnchurch.com
SUMMARY:Sunday Morning Worship
DESCRIPTION:Due to the inclement weather\, all services for Sunday\, January 25\, 2026 have been cancelled.  Stay home. Stay warm. Stay safe. 
URL:https://barnchurch.com/event/377/2026-09-06/
LOCATION:Barn Church\, 3948 FM1057\, Hereford\, TX\, 79045\, United States
CATEGORIES:Sunday Worship
ATTACH;FMTTYPE=image/jpeg:https://barnchurch.com/wp-content/uploads/2022/03/2026-BC-Worship-Service-Hero-Image.jpg
END:VEVENT
BEGIN:VEVENT
DTSTART;TZID=America/Chicago:20260913T103000
DTEND;TZID=America/Chicago:20260913T120000
DTSTAMP:20260423T220010
CREATED:20220331T212513Z
LAST-MODIFIED:20251207T001341Z
UID:10001350-1789295400-1789300800@barnchurch.com
SUMMARY:Sunday Morning Worship
DESCRIPTION:Due to the inclement weather\, all services for Sunday\, January 25\, 2026 have been cancelled.  Stay home. Stay warm. Stay safe. 
URL:https://barnchurch.com/event/377/2026-09-13/
LOCATION:Barn Church\, 3948 FM1057\, Hereford\, TX\, 79045\, United States
CATEGORIES:Sunday Worship
ATTACH;FMTTYPE=image/jpeg:https://barnchurch.com/wp-content/uploads/2022/03/2026-BC-Worship-Service-Hero-Image.jpg
END:VEVENT
BEGIN:VEVENT
DTSTART;TZID=America/Chicago:20260920T103000
DTEND;TZID=America/Chicago:20260920T120000
DTSTAMP:20260423T220010
CREATED:20220331T212513Z
LAST-MODIFIED:20251207T001341Z
UID:10001351-1789900200-1789905600@barnchurch.com
SUMMARY:Sunday Morning Worship
DESCRIPTION:Due to the inclement weather\, all services for Sunday\, January 25\, 2026 have been cancelled.  Stay home. Stay warm. Stay safe. 
URL:https://barnchurch.com/event/377/2026-09-20/
LOCATION:Barn Church\, 3948 FM1057\, Hereford\, TX\, 79045\, United States
CATEGORIES:Sunday Worship
ATTACH;FMTTYPE=image/jpeg:https://barnchurch.com/wp-content/uploads/2022/03/2026-BC-Worship-Service-Hero-Image.jpg
END:VEVENT
BEGIN:VEVENT
DTSTART;TZID=America/Chicago:20260927T103000
DTEND;TZID=America/Chicago:20260927T120000
DTSTAMP:20260423T220010
CREATED:20220331T212513Z
LAST-MODIFIED:20251207T001341Z
UID:10001352-1790505000-1790510400@barnchurch.com
SUMMARY:Sunday Morning Worship
DESCRIPTION:Due to the inclement weather\, all services for Sunday\, January 25\, 2026 have been cancelled.  Stay home. Stay warm. Stay safe. 
URL:https://barnchurch.com/event/377/2026-09-27/
LOCATION:Barn Church\, 3948 FM1057\, Hereford\, TX\, 79045\, United States
CATEGORIES:Sunday Worship
ATTACH;FMTTYPE=image/jpeg:https://barnchurch.com/wp-content/uploads/2022/03/2026-BC-Worship-Service-Hero-Image.jpg
END:VEVENT
BEGIN:VEVENT
DTSTART;TZID=America/Chicago:20261004T103000
DTEND;TZID=America/Chicago:20261004T120000
DTSTAMP:20260423T220010
CREATED:20220331T212513Z
LAST-MODIFIED:20251207T001341Z
UID:10002088-1791109800-1791115200@barnchurch.com
SUMMARY:Sunday Morning Worship
DESCRIPTION:Due to the inclement weather\, all services for Sunday\, January 25\, 2026 have been cancelled.  Stay home. Stay warm. Stay safe. 
URL:https://barnchurch.com/event/377/2026-10-04/
LOCATION:Barn Church\, 3948 FM1057\, Hereford\, TX\, 79045\, United States
CATEGORIES:Sunday Worship
ATTACH;FMTTYPE=image/jpeg:https://barnchurch.com/wp-content/uploads/2022/03/2026-BC-Worship-Service-Hero-Image.jpg
END:VEVENT
BEGIN:VEVENT
DTSTART;TZID=America/Chicago:20261011T103000
DTEND;TZID=America/Chicago:20261011T120000
DTSTAMP:20260423T220010
CREATED:20220331T212513Z
LAST-MODIFIED:20251207T001341Z
UID:10001353-1791714600-1791720000@barnchurch.com
SUMMARY:Sunday Morning Worship
DESCRIPTION:Due to the inclement weather\, all services for Sunday\, January 25\, 2026 have been cancelled.  Stay home. Stay warm. Stay safe. 
URL:https://barnchurch.com/event/377/2026-10-11/
LOCATION:Barn Church\, 3948 FM1057\, Hereford\, TX\, 79045\, United States
CATEGORIES:Sunday Worship
ATTACH;FMTTYPE=image/jpeg:https://barnchurch.com/wp-content/uploads/2022/03/2026-BC-Worship-Service-Hero-Image.jpg
END:VEVENT
BEGIN:VEVENT
DTSTART;TZID=America/Chicago:20261018T103000
DTEND;TZID=America/Chicago:20261018T120000
DTSTAMP:20260423T220010
CREATED:20220331T212513Z
LAST-MODIFIED:20251207T001341Z
UID:10001354-1792319400-1792324800@barnchurch.com
SUMMARY:Sunday Morning Worship
DESCRIPTION:Due to the inclement weather\, all services for Sunday\, January 25\, 2026 have been cancelled.  Stay home. Stay warm. Stay safe. 
URL:https://barnchurch.com/event/377/2026-10-18/
LOCATION:Barn Church\, 3948 FM1057\, Hereford\, TX\, 79045\, United States
CATEGORIES:Sunday Worship
ATTACH;FMTTYPE=image/jpeg:https://barnchurch.com/wp-content/uploads/2022/03/2026-BC-Worship-Service-Hero-Image.jpg
END:VEVENT
BEGIN:VEVENT
DTSTART;TZID=America/Chicago:20261025T103000
DTEND;TZID=America/Chicago:20261025T120000
DTSTAMP:20260423T220010
CREATED:20220331T212513Z
LAST-MODIFIED:20251207T001341Z
UID:10001355-1792924200-1792929600@barnchurch.com
SUMMARY:Sunday Morning Worship
DESCRIPTION:Due to the inclement weather\, all services for Sunday\, January 25\, 2026 have been cancelled.  Stay home. Stay warm. Stay safe. 
URL:https://barnchurch.com/event/377/2026-10-25/
LOCATION:Barn Church\, 3948 FM1057\, Hereford\, TX\, 79045\, United States
CATEGORIES:Sunday Worship
ATTACH;FMTTYPE=image/jpeg:https://barnchurch.com/wp-content/uploads/2022/03/2026-BC-Worship-Service-Hero-Image.jpg
END:VEVENT
BEGIN:VEVENT
DTSTART;TZID=America/Chicago:20261101T103000
DTEND;TZID=America/Chicago:20261101T120000
DTSTAMP:20260423T220010
CREATED:20220331T212513Z
LAST-MODIFIED:20251207T001341Z
UID:10002089-1793529000-1793534400@barnchurch.com
SUMMARY:Sunday Morning Worship
DESCRIPTION:Due to the inclement weather\, all services for Sunday\, January 25\, 2026 have been cancelled.  Stay home. Stay warm. Stay safe. 
URL:https://barnchurch.com/event/377/2026-11-01/
LOCATION:Barn Church\, 3948 FM1057\, Hereford\, TX\, 79045\, United States
CATEGORIES:Sunday Worship
ATTACH;FMTTYPE=image/jpeg:https://barnchurch.com/wp-content/uploads/2022/03/2026-BC-Worship-Service-Hero-Image.jpg
END:VEVENT
BEGIN:VEVENT
DTSTART;TZID=America/Chicago:20261108T103000
DTEND;TZID=America/Chicago:20261108T120000
DTSTAMP:20260423T220010
CREATED:20220331T212513Z
LAST-MODIFIED:20251207T001341Z
UID:10001356-1794133800-1794139200@barnchurch.com
SUMMARY:Sunday Morning Worship
DESCRIPTION:Due to the inclement weather\, all services for Sunday\, January 25\, 2026 have been cancelled.  Stay home. Stay warm. Stay safe. 
URL:https://barnchurch.com/event/377/2026-11-08/
LOCATION:Barn Church\, 3948 FM1057\, Hereford\, TX\, 79045\, United States
CATEGORIES:Sunday Worship
ATTACH;FMTTYPE=image/jpeg:https://barnchurch.com/wp-content/uploads/2022/03/2026-BC-Worship-Service-Hero-Image.jpg
END:VEVENT
BEGIN:VEVENT
DTSTART;TZID=America/Chicago:20261115T103000
DTEND;TZID=America/Chicago:20261115T120000
DTSTAMP:20260423T220010
CREATED:20220331T212513Z
LAST-MODIFIED:20251207T001341Z
UID:10001357-1794738600-1794744000@barnchurch.com
SUMMARY:Sunday Morning Worship
DESCRIPTION:Due to the inclement weather\, all services for Sunday\, January 25\, 2026 have been cancelled.  Stay home. Stay warm. Stay safe. 
URL:https://barnchurch.com/event/377/2026-11-15/
LOCATION:Barn Church\, 3948 FM1057\, Hereford\, TX\, 79045\, United States
CATEGORIES:Sunday Worship
ATTACH;FMTTYPE=image/jpeg:https://barnchurch.com/wp-content/uploads/2022/03/2026-BC-Worship-Service-Hero-Image.jpg
END:VEVENT
END:VCALENDAR