BEGIN:VCALENDAR
VERSION:2.0
PRODID:-//Barn Church - ECPv6.15.20//NONSGML v1.0//EN
CALSCALE:GREGORIAN
METHOD:PUBLISH
X-WR-CALNAME:Barn Church
X-ORIGINAL-URL:https://barnchurch.com
X-WR-CALDESC:Events for Barn Church
REFRESH-INTERVAL;VALUE=DURATION:PT1H
X-Robots-Tag:noindex
X-PUBLISHED-TTL:PT1H
BEGIN:VTIMEZONE
TZID:America/Chicago
BEGIN:DAYLIGHT
TZOFFSETFROM:-0600
TZOFFSETTO:-0500
TZNAME:CDT
DTSTART:20250309T080000
END:DAYLIGHT
BEGIN:STANDARD
TZOFFSETFROM:-0500
TZOFFSETTO:-0600
TZNAME:CST
DTSTART:20251102T070000
END:STANDARD
BEGIN:DAYLIGHT
TZOFFSETFROM:-0600
TZOFFSETTO:-0500
TZNAME:CDT
DTSTART:20260308T080000
END:DAYLIGHT
BEGIN:STANDARD
TZOFFSETFROM:-0500
TZOFFSETTO:-0600
TZNAME:CST
DTSTART:20261101T070000
END:STANDARD
BEGIN:DAYLIGHT
TZOFFSETFROM:-0600
TZOFFSETTO:-0500
TZNAME:CDT
DTSTART:20270314T080000
END:DAYLIGHT
BEGIN:STANDARD
TZOFFSETFROM:-0500
TZOFFSETTO:-0600
TZNAME:CST
DTSTART:20271107T070000
END:STANDARD
END:VTIMEZONE
BEGIN:VEVENT
DTSTART;TZID=America/Chicago:20260426T120000
DTEND;TZID=America/Chicago:20260426T140000
DTSTAMP:20260423T072251
CREATED:20260312T143235Z
LAST-MODIFIED:20260312T150531Z
UID:10002218-1777204800-1777212000@barnchurch.com
SUMMARY:Kids' Camp Fundraiser
DESCRIPTION:Join us for our annual Pentecost service! \nEach year\, we honor the feast of Shavuot\, which for the Jews commemorates the giving of the Torah to Moses on Mount Sinai\, but for Christians\, it celebrates the indwelling of the Holy Spirit. \nWe begin with worship. Then\, Pastor Guy brings a special message about Shavuot and its fulfillment in the Pentecost. \nFinally\, we break bread together! The church provides burgers and hotdogs. \nPlease RSVP below if you plan on attending. That helps us plan on how many folks to feed.  \nWe hope you will join us.
URL:https://barnchurch.com/event/camp-meal/
LOCATION:Barn Church\, 3948 FM1057\, Hereford\, TX\, 79045\, United States
CATEGORIES:Featured Event,Kids' Church
ATTACH;FMTTYPE=image/webp:https://barnchurch.com/wp-content/uploads/2026/03/2026-BC-Kids-Camp-Fundraiser-Hero-Image.webp
ORGANIZER;CN="Asia Birkenfeld":MAILTO:asiab@barnchurch.com
END:VEVENT
BEGIN:VEVENT
DTSTART;TZID=America/Chicago:20260509T080000
DTEND;TZID=America/Chicago:20260509T090000
DTSTAMP:20260423T072251
CREATED:20250917T134245Z
LAST-MODIFIED:20251212T185618Z
UID:10001945-1778313600-1778317200@barnchurch.com
SUMMARY:Hereford Men's Emmaus Reunion
DESCRIPTION:Join us for our annual Pentecost service! \nEach year\, we honor the feast of Shavuot\, which for the Jews commemorates the giving of the Torah to Moses on Mount Sinai\, but for Christians\, it celebrates the indwelling of the Holy Spirit. \nWe begin with worship. Then\, Pastor Guy brings a special message about Shavuot and its fulfillment in the Pentecost. \nFinally\, we break bread together! The church provides burgers and hotdogs. \nPlease RSVP below if you plan on attending. That helps us plan on how many folks to feed.  \nWe hope you will join us.
URL:https://barnchurch.com/event/hereford-emmaus-reunion/2026-05-09/
LOCATION:Barn Church\, 3948 FM1057\, Hereford\, TX\, 79045\, United States
CATEGORIES:Emmaus
ATTACH;FMTTYPE=image/jpeg:https://barnchurch.com/wp-content/uploads/2025/12/2026-BC-Emmaus-Reunion-Hero-Image-5.jpg
ORGANIZER;CN="Ray Garza":MAILTO:raygarza62@yahoo.com
END:VEVENT
BEGIN:VEVENT
DTSTART;TZID=America/Chicago:20260521T180000
DTEND;TZID=America/Chicago:20260521T200000
DTSTAMP:20260423T072251
CREATED:20260406T120027Z
LAST-MODIFIED:20260413T163457Z
UID:10002216-1779386400-1779393600@barnchurch.com
SUMMARY:Pentecost 2026
DESCRIPTION:Join us for our annual Pentecost service! \nEach year\, we honor the feast of Shavuot\, which for the Jews commemorates the giving of the Torah to Moses on Mount Sinai\, but for Christians\, it celebrates the indwelling of the Holy Spirit. \nWe begin with worship. Then\, Pastor Guy brings a special message about Shavuot and its fulfillment in the Pentecost. \nFinally\, we break bread together! The church provides burgers and hotdogs. \nPlease RSVP below if you plan on attending. That helps us plan on how many folks to feed.  \nWe hope you will join us.
URL:https://barnchurch.com/event/pentecost-2026/
LOCATION:Barn Church\, 3948 FM1057\, Hereford\, TX\, 79045\, United States
CATEGORIES:Feast,Featured Event
ATTACH;FMTTYPE=image/webp:https://barnchurch.com/wp-content/uploads/2026/02/2026-BC-Pentecost-Hero-Image.webp
ORGANIZER;CN="Kassi Bradley":MAILTO:momakas2002@yahoo.com
END:VEVENT
END:VCALENDAR