BEGIN:VCALENDAR
VERSION:2.0
PRODID:-//Barn Church - ECPv6.15.20//NONSGML v1.0//EN
CALSCALE:GREGORIAN
METHOD:PUBLISH
X-WR-CALNAME:Barn Church
X-ORIGINAL-URL:https://barnchurch.com
X-WR-CALDESC:Events for Barn Church
REFRESH-INTERVAL;VALUE=DURATION:PT1H
X-Robots-Tag:noindex
X-PUBLISHED-TTL:PT1H
BEGIN:VTIMEZONE
TZID:America/Chicago
BEGIN:DAYLIGHT
TZOFFSETFROM:-0600
TZOFFSETTO:-0500
TZNAME:CDT
DTSTART:20240310T080000
END:DAYLIGHT
BEGIN:STANDARD
TZOFFSETFROM:-0500
TZOFFSETTO:-0600
TZNAME:CST
DTSTART:20241103T070000
END:STANDARD
BEGIN:DAYLIGHT
TZOFFSETFROM:-0600
TZOFFSETTO:-0500
TZNAME:CDT
DTSTART:20250309T080000
END:DAYLIGHT
BEGIN:STANDARD
TZOFFSETFROM:-0500
TZOFFSETTO:-0600
TZNAME:CST
DTSTART:20251102T070000
END:STANDARD
BEGIN:DAYLIGHT
TZOFFSETFROM:-0600
TZOFFSETTO:-0500
TZNAME:CDT
DTSTART:20260308T080000
END:DAYLIGHT
BEGIN:STANDARD
TZOFFSETFROM:-0500
TZOFFSETTO:-0600
TZNAME:CST
DTSTART:20261101T070000
END:STANDARD
END:VTIMEZONE
BEGIN:VEVENT
DTSTART;TZID=America/Chicago:20251019T103000
DTEND;TZID=America/Chicago:20251019T120000
DTSTAMP:20260423T172128
CREATED:20220406T021729Z
LAST-MODIFIED:20251206T235854Z
UID:10001648-1760869800-1760875200@barnchurch.com
SUMMARY:Youth Group
DESCRIPTION:« All Events\n				\n				\n				\n				\n					This event has passed. \n				\n				\n				\n				\n					\n	\n		\n\n	\n	\n	\n\n	\n	\n		Event Series:	\n\n	\n		\n			Youth Group		\n	\n\n\n	Youth Group				\n				\n				\n							\n			\n						\n		\n						\n				\n				\n					\n		\n			October 19\n\n	\n\n	  @  \n\n\n10:30 am\n\n		\n\n\n\n	\n	  -  \n\n12:00 pm\n\n\n\n	\n				\n				\n				\n									On Sunday mornings\, Barn Church students have the opportunity to participate in a special worship service focused more on the things that impact their lives. Youth Pastor Mitzi Branscum brings bible-based teachings to help our young people navigate their increasingly complicated lives in the light of scripture and with the guidance of the Holy Spirit. *Youth Group meets every Sunday from 10:30 am to 12:00 pm\, except on the first Sunday of every Month\, which is our Family Worship Service\, where families have the chance to worship and take communion together. 								\n		\n		\n				\n				\n					\n	\n\n	Categories:	\n		Sunday Worship\, Youth Group	\n\n				\n				\n				\n		\n				\n				\n		\n		\n				\n				\n					\n	\n	Venue			\n				\n	\n			\n		Barn Church			\n	\n	\n	\n\n3948 FM1057\n	\n		\n		Hereford\,\n\n	TX\n\n	79045\n\n	United States\n\n\n\n\n	+ Google Map \n\n\n	\n					\n			(806) 289-5706‬			\n	 \n\n\n	\n	View Venue Website \n\n\n\n	\n\n\n\n		\n	\n				\n				\n				\n				\n		\n		\n				\n				\n					\n	\n		\n\n	\n	Add to calendar	\n		\n	\n\n		\n			\n									\n	Google Calendar\n\n									\n	iCalendar\n\n									\n	Outlook 365\n\n									\n	Outlook Live\n\n							\n		\n\n		\n	\n\n				\n				\n				\n				\n		\n		\n				\n				\n					\n	\n		\n\n				Youth Group	\n\n\n		\n	\n		Sunday Morning Worship
URL:https://barnchurch.com/event/youth-group/2025-10-19/
LOCATION:Barn Church\, 3948 FM1057\, Hereford\, TX\, 79045\, United States
CATEGORIES:Sunday Worship,Youth Group
ATTACH;FMTTYPE=image/jpeg:https://barnchurch.com/wp-content/uploads/2022/04/2026-BC-Youth-Group-Hero-Image.jpg
END:VEVENT
END:VCALENDAR