BEGIN:VCALENDAR
VERSION:2.0
PRODID:-//Barn Church - ECPv6.15.20//NONSGML v1.0//EN
CALSCALE:GREGORIAN
METHOD:PUBLISH
X-WR-CALNAME:Barn Church
X-ORIGINAL-URL:https://barnchurch.com
X-WR-CALDESC:Events for Barn Church
REFRESH-INTERVAL;VALUE=DURATION:PT1H
X-Robots-Tag:noindex
X-PUBLISHED-TTL:PT1H
BEGIN:VTIMEZONE
TZID:America/Chicago
BEGIN:DAYLIGHT
TZOFFSETFROM:-0600
TZOFFSETTO:-0500
TZNAME:CDT
DTSTART:20240310T080000
END:DAYLIGHT
BEGIN:STANDARD
TZOFFSETFROM:-0500
TZOFFSETTO:-0600
TZNAME:CST
DTSTART:20241103T070000
END:STANDARD
BEGIN:DAYLIGHT
TZOFFSETFROM:-0600
TZOFFSETTO:-0500
TZNAME:CDT
DTSTART:20250309T080000
END:DAYLIGHT
BEGIN:STANDARD
TZOFFSETFROM:-0500
TZOFFSETTO:-0600
TZNAME:CST
DTSTART:20251102T070000
END:STANDARD
BEGIN:DAYLIGHT
TZOFFSETFROM:-0600
TZOFFSETTO:-0500
TZNAME:CDT
DTSTART:20260308T080000
END:DAYLIGHT
BEGIN:STANDARD
TZOFFSETFROM:-0500
TZOFFSETTO:-0600
TZNAME:CST
DTSTART:20261101T070000
END:STANDARD
END:VTIMEZONE
BEGIN:VEVENT
DTSTART;TZID=America/Chicago:20250601T170000
DTEND;TZID=America/Chicago:20250601T190000
DTSTAMP:20260423T142037
CREATED:20250430T165720Z
LAST-MODIFIED:20250528T224240Z
UID:4396-1748797200-1748804400@barnchurch.com
SUMMARY:Pentecost 2025
DESCRIPTION:« All Events\n 				\n				\n				\n				\n					This event has passed. \n				\n				\n				\n				\n					\n	Pentecost 2025				\n				\n				\n				\n					\n		\n			June 1\n\n	\n\n	  @  \n\n\n5:00 pm\n\n		\n\n\n\n	\n	  -  \n\n7:00 pm\n\n\n\n	\n				\n				\n				\n									 \nJoin us for our annual Pentecost service! \nEach year\, we honor the feast of Shavuot\, which for the Jews commemorates the giving of the Torah to Moses on Mount Sinai\, but for Christians\, it celebrates the indwelling of the Holy Spirit. \nWe begin with worship. Then\, Pastor Guy brings a special message about Shavuot and its fulfillment in the Pentecost. \nFinally\, we break bread together! The church provides burgers and hotdogs. \nPlease RSVP below by May 27th if you plan on attending. That helps us plan on how many folks to feed.  \nWe hope you will join us. \n 								\n		\n		\n				\n				\n					\n	\n\n	Categories:	\n		Feast\, Featured Event	\n\n				\n				\n				\n		\n				\n				\n					\n	\n	Organizer\n			\n			Kassi Bradley			\n	\n\n	\n	\n\n	Phone:\n					\n						\n	 \n\n\n	\n	Email:\n					\n			momakas2002@yahoo.com			\n	 \n\n\n\n				\n				\n				\n				\n		\n		\n				\n				\n					\n				\n				\n	\n			\n		Barn Church			\n	\n	\n	\n\n3948 FM1057\n	\n		\n		Hereford\,\n\n	TX\n\n	79045\n\n	United States\n\n\n\n\n	+ Google Map \n\n\n	\n					\n			(806) 289-5706‬			\n	 \n\n\n	\n	View Venue Website \n\n\n\n	\n\n\n\n		\n	\n				\n				\n				\n				\n		\n		\n				\n				\n					\n	\n		\n\n	\n	Add to calendar	\n		\n	\n\n		\n			\n									\n	Google Calendar\n\n									\n	iCalendar\n\n									\n	Outlook 365\n\n									\n	Outlook Live\n\n							\n		\n\n		\n	\n\n				\n				\n				\n				\n		\n		\n				\n				\n					\n	\n		\n\n				Sunday Morning Worship	\n\n\n		\n	\n		Sunday Morning Worship
URL:https://barnchurch.com/event/pentecost-2025/
LOCATION:Barn Church\, 3948 FM1057\, Hereford\, TX\, 79045\, United States
CATEGORIES:Feast,Featured Event
ATTACH;FMTTYPE=image/jpeg:https://barnchurch.com/wp-content/uploads/2023/05/BC-Pentecost-Hero-Image.jpg
ORGANIZER;CN="Kassi Bradley":MAILTO:momakas2002@yahoo.com
END:VEVENT
END:VCALENDAR