BEGIN:VCALENDAR
VERSION:2.0
PRODID:-//Barn Church - ECPv6.15.20//NONSGML v1.0//EN
CALSCALE:GREGORIAN
METHOD:PUBLISH
X-WR-CALNAME:Barn Church
X-ORIGINAL-URL:https://barnchurch.com
X-WR-CALDESC:Events for Barn Church
REFRESH-INTERVAL;VALUE=DURATION:PT1H
X-Robots-Tag:noindex
X-PUBLISHED-TTL:PT1H
BEGIN:VTIMEZONE
TZID:America/Chicago
BEGIN:DAYLIGHT
TZOFFSETFROM:-0600
TZOFFSETTO:-0500
TZNAME:CDT
DTSTART:20240310T080000
END:DAYLIGHT
BEGIN:STANDARD
TZOFFSETFROM:-0500
TZOFFSETTO:-0600
TZNAME:CST
DTSTART:20241103T070000
END:STANDARD
BEGIN:DAYLIGHT
TZOFFSETFROM:-0600
TZOFFSETTO:-0500
TZNAME:CDT
DTSTART:20250309T080000
END:DAYLIGHT
BEGIN:STANDARD
TZOFFSETFROM:-0500
TZOFFSETTO:-0600
TZNAME:CST
DTSTART:20251102T070000
END:STANDARD
BEGIN:DAYLIGHT
TZOFFSETFROM:-0600
TZOFFSETTO:-0500
TZNAME:CDT
DTSTART:20260308T080000
END:DAYLIGHT
BEGIN:STANDARD
TZOFFSETFROM:-0500
TZOFFSETTO:-0600
TZNAME:CST
DTSTART:20261101T070000
END:STANDARD
END:VTIMEZONE
BEGIN:VEVENT
DTSTART;TZID=America/Chicago:20251026T120000
DTEND;TZID=America/Chicago:20251026T140000
DTSTAMP:20260423T142449
CREATED:20251020T005542Z
LAST-MODIFIED:20251020T010222Z
UID:5103-1761480000-1761487200@barnchurch.com
SUMMARY:Pastor Appreciation Sunday
DESCRIPTION:« All Events\n				\n				\n				\n				\n					This event has passed. \n				\n				\n				\n				\n					\n	Pastor Appreciation Sunday				\n				\n				\n							\n			\n						\n		\n						\n				\n				\n					\n		\n			October 26\n\n	\n\n	  @  \n\n\n12:00 pm\n\n		\n\n\n\n	\n	  -  \n\n2:00 pm\n\n\n\n	\n				\n				\n				\n									Please join us for a time to honor and celebrate our Pastors Guy and Carol immediately following the service Donations can be given to Kassi\, sent by Venmo\, cash app\, check\, or cash – all gifts and donations will be sent with them for an upcoming trip to their favorite fishing spot! 								\n		\n		\n				\n				\n					\n	\n\n	Categories:	\n		Featured Event	\n\n				\n				\n				\n		\n				\n				\n					\n	\n	Organizer\n			\n			Kassi Bradley			\n	\n\n	\n	\n	Email:\n					\n			momakas2002@yahoo.com			\n	 \n\n\n\n				\n				\n				\n				\n		\n		\n				\n				\n					\n	\n	Venue			\n				\n	\n			\n		Barn Church			\n	\n	\n	\n\n3948 FM1057\n	\n		\n		Hereford\,\n\n	TX\n\n	79045\n\n	United States\n\n\n\n\n	+ Google Map \n\n\n	\n					\n			(806) 289-5706‬			\n	 \n\n\n	\n	View Venue Website \n\n\n\n	\n\n\n\n		\n	\n				\n				\n				\n				\n		\n		\n				\n				\n					\n	\n		\n\n	\n	Add to calendar	\n		\n	\n\n		\n			\n									\n	Google Calendar\n\n									\n	iCalendar\n\n									\n	Outlook 365\n\n									\n	Outlook Live\n\n							\n		\n\n		\n	\n\n				\n				\n				\n				\n		\n		\n				\n				\n					\n	\n		\n\n				Youth Group	\n\n\n		\n	\n		Sunday Morning Worship
URL:https://barnchurch.com/event/pastor-appreciation-sunday-2/
LOCATION:Barn Church\, 3948 FM1057\, Hereford\, TX\, 79045\, United States
CATEGORIES:Featured Event
ATTACH;FMTTYPE=image/jpeg:https://barnchurch.com/wp-content/uploads/2025/10/BC-Pastor-Appreciation-Hero-Image.jpg
ORGANIZER;CN="Kassi Bradley":MAILTO:momakas2002@yahoo.com
END:VEVENT
END:VCALENDAR