BEGIN:VCALENDAR
VERSION:2.0
PRODID:-//Barn Church - ECPv6.15.20//NONSGML v1.0//EN
CALSCALE:GREGORIAN
METHOD:PUBLISH
X-WR-CALNAME:Barn Church
X-ORIGINAL-URL:https://barnchurch.com
X-WR-CALDESC:Events for Barn Church
REFRESH-INTERVAL;VALUE=DURATION:PT1H
X-Robots-Tag:noindex
X-PUBLISHED-TTL:PT1H
BEGIN:VTIMEZONE
TZID:America/Chicago
BEGIN:DAYLIGHT
TZOFFSETFROM:-0600
TZOFFSETTO:-0500
TZNAME:CDT
DTSTART:20240310T080000
END:DAYLIGHT
BEGIN:STANDARD
TZOFFSETFROM:-0500
TZOFFSETTO:-0600
TZNAME:CST
DTSTART:20241103T070000
END:STANDARD
BEGIN:DAYLIGHT
TZOFFSETFROM:-0600
TZOFFSETTO:-0500
TZNAME:CDT
DTSTART:20250309T080000
END:DAYLIGHT
BEGIN:STANDARD
TZOFFSETFROM:-0500
TZOFFSETTO:-0600
TZNAME:CST
DTSTART:20251102T070000
END:STANDARD
BEGIN:DAYLIGHT
TZOFFSETFROM:-0600
TZOFFSETTO:-0500
TZNAME:CDT
DTSTART:20260308T080000
END:DAYLIGHT
BEGIN:STANDARD
TZOFFSETFROM:-0500
TZOFFSETTO:-0600
TZNAME:CST
DTSTART:20261101T070000
END:STANDARD
END:VTIMEZONE
BEGIN:VEVENT
DTSTART;TZID=America/Chicago:20251108T130000
DTEND;TZID=America/Chicago:20251108T170000
DTSTAMP:20260423T184650
CREATED:20250930T131711Z
LAST-MODIFIED:20251104T181957Z
UID:5031-1762606800-1762621200@barnchurch.com
SUMMARY:Kids' Skating Party
DESCRIPTION:« All Events\n				\n				\n				\n				\n					This event has passed. \n				\n				\n				\n				\n					\n	Kids’ Skating Party				\n				\n				\n							\n			\n						\n		\n						\n				\n				\n					\n		\n			November 8\n\n	\n\n	  @  \n\n\n1:00 pm\n\n		\n\n\n\n	\n	  -  \n\n5:00 pm\n\n\n\n	\n				\n				\n				\n									Join us for a fun afternoon of skating at Skate Plex Amarillo. This is a free event\, so the kids will not need to bring money with them.  Please RSVP below. 								\n		\n		\n				\n				\n					\n	\n\n	Categories:	\n		Featured Event\, Kids' Church	\n\n				\n				\n				\n		\n				\n				\n					\n	\n	Organizer\n			\n			Private: Asia Birkenfeld			\n	\n\n	\n	\n	Email:\n					\n			asiab@barnchurch.com			\n	 \n\n\n\n				\n				\n				\n				\n		\n		\n				\n				\n					\n	\n	Venue			\n				\n	\n			\n		Skate Plex Amarillo			\n	\n	\n	\n\n9721 Coulter St S\n	\n		\n		Amarillo\,\n\n\n	79119\n\n	United States\n\n\n\n\n	+ Google Map \n\n\n	\n					\n			(806) 351-0000			\n	 \n\n\n	\n	View Venue Website \n\n\n\n	\n\n\n\n		\n	\n				\n				\n				\n				\n		\n		\n				\n				\n					\n	\n		\n\n	\n	Add to calendar	\n		\n	\n\n		\n			\n									\n	Google Calendar\n\n									\n	iCalendar\n\n									\n	Outlook 365\n\n									\n	Outlook Live\n\n							\n		\n\n		\n	\n\n				\n				\n				\n				\n		\n		\n				\n				\n					\n	\n		\n\n				Hereford Men's Emmaus Reunion	\n\n\n		\n	\n		Sunday Morning Worship
URL:https://barnchurch.com/event/kids-skating-party/
LOCATION:Skate Plex Amarillo\, 9721 Coulter St S\, Amarillo\, 79119\, United States
CATEGORIES:Featured Event,Kids' Church
ATTACH;FMTTYPE=image/jpeg:https://barnchurch.com/wp-content/uploads/2025/09/BC-Kids-Church-Skate-Hero-Image.jpg
ORGANIZER;CN="Asia Birkenfeld":MAILTO:asiab@barnchurch.com
END:VEVENT
END:VCALENDAR