BEGIN:VCALENDAR
VERSION:2.0
PRODID:-//Barn Church - ECPv6.15.20//NONSGML v1.0//EN
CALSCALE:GREGORIAN
METHOD:PUBLISH
X-WR-CALNAME:Barn Church
X-ORIGINAL-URL:https://barnchurch.com
X-WR-CALDESC:Events for Barn Church
REFRESH-INTERVAL;VALUE=DURATION:PT1H
X-Robots-Tag:noindex
X-PUBLISHED-TTL:PT1H
BEGIN:VTIMEZONE
TZID:America/Chicago
BEGIN:DAYLIGHT
TZOFFSETFROM:-0600
TZOFFSETTO:-0500
TZNAME:CDT
DTSTART:20240310T080000
END:DAYLIGHT
BEGIN:STANDARD
TZOFFSETFROM:-0500
TZOFFSETTO:-0600
TZNAME:CST
DTSTART:20241103T070000
END:STANDARD
BEGIN:DAYLIGHT
TZOFFSETFROM:-0600
TZOFFSETTO:-0500
TZNAME:CDT
DTSTART:20250309T080000
END:DAYLIGHT
BEGIN:STANDARD
TZOFFSETFROM:-0500
TZOFFSETTO:-0600
TZNAME:CST
DTSTART:20251102T070000
END:STANDARD
BEGIN:DAYLIGHT
TZOFFSETFROM:-0600
TZOFFSETTO:-0500
TZNAME:CDT
DTSTART:20260308T080000
END:DAYLIGHT
BEGIN:STANDARD
TZOFFSETFROM:-0500
TZOFFSETTO:-0600
TZNAME:CST
DTSTART:20261101T070000
END:STANDARD
END:VTIMEZONE
BEGIN:VEVENT
DTSTART;TZID=America/Chicago:20250608T120000
DTEND;TZID=America/Chicago:20250608T123000
DTSTAMP:20260423T172513
CREATED:20250521T025756Z
LAST-MODIFIED:20250602T144829Z
UID:4589-1749384000-1749385800@barnchurch.com
SUMMARY:Attention Campers! Kids' Camp Meeting
DESCRIPTION:« All Events\n 				\n				\n				\n				\n					This event has passed. \n				\n				\n				\n				\n					\n	Attention Campers! Kids’ Camp Meeting				\n				\n				\n				\n					\n		\n			June 8\n\n	\n\n	  @  \n\n\n12:00 pm\n\n		\n\n\n\n	\n	  -  \n\n12:30 pm\n\n\n\n	\n				\n				\n				\n									We need all the Kids’ Campers and their parents to meet in the Kids Church after service on June 8th. We will be going over all the details about getting ready for the trip\, so don’t miss this important meeting. 								\n		\n		\n				\n				\n					\n	\n\n	Categories:	\n		Featured Event\, Kids' Church	\n\n				\n				\n				\n		\n				\n				\n					\n	\n	Organizer\n			\n			Private: Asia Birkenfeld			\n	\n\n	\n	\n\n	Phone:\n					\n			1-806-289-5706			\n	 \n\n\n	\n	Email:\n					\n			asiab@barnchurch.com			\n	 \n\n\n\n				\n				\n				\n				\n		\n		\n				\n				\n					\n				\n				\n	\n			\n		Barn Church			\n	\n	\n	\n\n3948 FM1057\n	\n		\n		Hereford\,\n\n	TX\n\n	79045\n\n	United States\n\n\n\n\n	+ Google Map \n\n\n	\n					\n			(806) 289-5706‬			\n	 \n\n\n	\n	View Venue Website \n\n\n\n	\n\n\n\n		\n	\n				\n				\n				\n				\n		\n		\n				\n				\n					\n	\n		\n\n	\n	Add to calendar	\n		\n	\n\n		\n			\n									\n	Google Calendar\n\n									\n	iCalendar\n\n									\n	Outlook 365\n\n									\n	Outlook Live\n\n							\n		\n\n		\n	\n\n				\n				\n				\n				\n		\n		\n				\n				\n					\n	\n		\n\n				Youth Group	\n\n\n		\n	\n		Kids' Camp 2025 - Register your kids today!
URL:https://barnchurch.com/event/attention-campers-kids-camp-meeting/
LOCATION:Barn Church\, 3948 FM1057\, Hereford\, TX\, 79045\, United States
CATEGORIES:Featured Event,Kids' Church
ATTACH;FMTTYPE=image/jpeg:https://barnchurch.com/wp-content/uploads/2023/05/BC-Kids-Church-Camp-Hero-Image.jpg
ORGANIZER;CN="Asia Birkenfeld":MAILTO:asiab@barnchurch.com
END:VEVENT
END:VCALENDAR